BEGIN:VCALENDAR
VERSION:2.0
PRODID:-//Gratis-in-Berlin//NONSGML kigkonsult.se iCalcreator 2.14//
METHOD:PUBLISH
X-WR-CALNAME:Gratis-in-Berlin Tip Kalender
X-WR-CALDESC:Erhalte Gratis-in-Berlin Tips in deinem Kalender
BEGIN:VEVENT
UID:20260425T033641UTC-7583AVUgpE@Gratis-in-Berlin
DTSTAMP:20260425T033641Z
DESCRIPTION:19 Uhr 15: Linn Koch-Emmery20 Uhr: Horst Evers20 Uhr 10: Tiwayo
 22 Uhr 10: Bob Mould (Solo)\, Ex- Sänger und Gitarrist von Hüsker Düvorher ab 13 Uhr F
 amilienprogramm und SportAuch dieses Jahr feiert radioeins wieder ein Park
 fest auf dem Hauptplatz im Park am Gleisdreieck (Ostteil\, Eingang Hornstr
 aße) Eine Woche lang Livesendungen\, Konzerte\, Comedy\, Hörspielkino\, Theate
 r\, Sportstunden und mehr spannende Veranstaltungen in einer tollen Bierga
 rten-Atmosphäre - umsonst und draußen. Dann entweder über die verlinkte Website du
 rchhangeln oder (auch bis zum Start im August \;-) in unseren Tagestips für Heu
 te&nbsp\;und Morgen&nbsp\;schauen.\n\nViel Spass wünscht Gratis-in-Berlin\n\nLi
 nk zum Tip: \nZu den Gratis-in-Berlin Angeboten: http://www.gratis-in-berl
 in.de\n
DTSTART;VALUE=DATE:20190824
DTEND;VALUE=DATE:20190825
SUMMARY:Horst Evers\, Tiwayo\, Bob Mould auf Parkfest Gleisdreieck
END:VEVENT
END:VCALENDAR
