BEGIN:VCALENDAR
VERSION:2.0
PRODID:-//Gratis-in-Berlin//NONSGML kigkonsult.se iCalcreator 2.14//
METHOD:PUBLISH
X-WR-CALNAME:Gratis-in-Berlin Tip Kalender
X-WR-CALDESC:Erhalte Gratis-in-Berlin Tips in deinem Kalender
BEGIN:VEVENT
UID:20260419T122617UTC-7460FH8JfC@Gratis-in-Berlin
DTSTAMP:20260419T122617Z
DESCRIPTION:Gebrannte Mandeln\, Radio Rixdorf - zwei Berliner Pop-Chöre geben 
 sich die Ehre.Um die Weihnachtszeit festlich einzuläuten singen wir (auch mi
 t Ihnen) unser ganz persönliches Weihnachtsprogramm mit bekannten Weihnachtsl
 iedern in neuen Arrangements aber auch Pop-Perlen der letzten dreißig Jahre
 . Freuen Sie sich auf ein abwechslungsreiches Programm!\n\nViel Spass wünscht G
 ratis-in-Berlin\n\nLink zum Tip: http://netstate.ru\nZu den Gratis-in-Berl
 in Angeboten: http://www.gratis-in-berlin.de\n
DTSTART;VALUE=DATE:20191214
DTEND;VALUE=DATE:20191215
SUMMARY:Es kommt ein Schiff\, geladen (Chor-Doppelkonzert)
END:VEVENT
END:VCALENDAR
