BEGIN:VCALENDAR
VERSION:2.0
PRODID:-//Gratis-in-Berlin//NONSGML kigkonsult.se iCalcreator 2.14//
METHOD:PUBLISH
X-WR-CALNAME:Gratis-in-Berlin Tip Kalender
X-WR-CALDESC:Erhalte Gratis-in-Berlin Tips in deinem Kalender
BEGIN:VEVENT
UID:20260420T023906UTC-2752WRUAN7@Gratis-in-Berlin
DTSTAMP:20260420T023906Z
DESCRIPTION:Acoustic Rock\, Pop\, Country live mit den »Big Land« Men William
  Goetz (guit/voc) und Mr. Martin (guit/voc) in der 'TABAR BAR' Berlin-Tier
 garten\, Spontan-Programm nach Lust und Laune plus Open Stage - Songwriter
 s welcome - ab 21:00 Uhr\, Eintritt frei\, have a good time!\n\nViel Spass
  wünscht Gratis-in-Berlin\n\nLink zum Tip: \nZu den Gratis-in-Berlin Angeboten:
  http://www.gratis-in-berlin.de\n
DTSTART;VALUE=DATE:20260501
DTEND;VALUE=DATE:20260502
SUMMARY:Big Land Band - Acoustic Rock\, Pop\, Country & Open Stage
END:VEVENT
END:VCALENDAR
