BEGIN:VCALENDAR
VERSION:2.0
PRODID:-//Gratis-in-Berlin//NONSGML kigkonsult.se iCalcreator 2.14//
METHOD:PUBLISH
X-WR-CALNAME:Gratis-in-Berlin Tip Kalender
X-WR-CALDESC:Erhalte Gratis-in-Berlin Tips in deinem Kalender
BEGIN:VEVENT
UID:20260424T164750UTC-5002GUJp9F@Gratis-in-Berlin
DTSTAMP:20260424T164750Z
DESCRIPTION:Vocal Session hosted by Martin Stempel im Kunstforum Belziger 1
  e.V.Mittwoch\, 22. Juni 2022Einlass: 18:30 Uhr * Beginn: 19:30 Uhr | Eint
 ritt frei / Austritt HutDas Kunstforum Belziger 1 e.V. präsentiert eine offe
 ne Bühne fürJazzsängerinnen und Sänger...Eine Jazzband begleitet.Bitte Noten der Songs m
 itbringen.Martin Stempel (selbst Sänger) führt durch den Abend.Der Zugang zu dies
 er Veranstaltung ist nur nach vorheriger Reservierung möglich.Wir empfehlen I
 hnen\, vorrangig per E-Mail: Reservierung@kfb1ev.de bzw. telefonisch zu re
 servieren. Bitte geben Sie uns bis zum 20. Juni 2022\, Bescheid\, ob Sie d
 abei sein werden\, damit wir für Sie Plätze reservieren können. Wir freuen uns auf I
 hre Zusage!Die Veranstaltung findet im Untergeschoss statt\, und ist nicht
  barrierefrei.Kunstforum Belziger 1 e.V.Belziger Straße 1 (Ecke-Vorbergstra
 ße)10823 Berlin-SchönebergTelefon: +49(0)3078001469&nbsp\;https://mobil.kfb1ev
 .de&nbsp\;|&nbsp\;https://kfb1ev.de\n\nViel Spass wünscht Gratis-in-Berlin\n\nL
 ink zum Tip: \nZu den Gratis-in-Berlin Angeboten: http://www.gratis-in-ber
 lin.de\n
DTSTART;VALUE=DATE:20220622
DTEND;VALUE=DATE:20220623
SUMMARY:Vocal Session hosted by Martin Stempel im Kunstforum Belziger 1 e.V
 .
END:VEVENT
END:VCALENDAR
