BEGIN:VCALENDAR
VERSION:2.0
PRODID:-//Gratis-in-Berlin//NONSGML kigkonsult.se iCalcreator 2.14//
METHOD:PUBLISH
X-WR-CALNAME:Gratis-in-Berlin Tip Kalender
X-WR-CALDESC:Erhalte Gratis-in-Berlin Tips in deinem Kalender
BEGIN:VEVENT
UID:20260419T134608UTC-0806zWHnhj@Gratis-in-Berlin
DTSTAMP:20260419T134608Z
DESCRIPTION:Jeder\, der Lust hat zum Singen oder zum Begleiten auf dem eige
 nen Instrument hat\, ist eingeladen.Wir treffen uns regelmäßig sonntags Nach
 mittag um 17.00 Uhr im Experimentierort 'Bei Wilhelm' in der Wilhelmstadt\
 , Weißenburger Str. 9-11\, 13595 Berlin (rechts neben der Kirche). Das Song
 book variiert. Mit dem Link kannst du das Songbook für das Treffen am kommenden
  Sonntag runterladen.Bei Interesse sende eine Email an: jamsession-spandau
 @gmx.de\, um dich in unseren E-Mail-Verteiler aufnehmen zu lassen. So erfähr
 st du auch die aktuellen Termine.\n\nViel Spass wünscht Gratis-in-Berlin\n\nLin
 k zum Tip: https://www.gratis-in-berlin.de/22-musik/2057322-jamsession-spa
 ndau-zum-mitmachen\nZu den Gratis-in-Berlin Angeboten: http://www.gratis-i
 n-berlin.de\n
DTSTART;VALUE=DATE:20260419
DTEND;VALUE=DATE:20260420
SUMMARY:Mitsingen / Jamsession in Spandau für alle
END:VEVENT
END:VCALENDAR
