BEGIN:VCALENDAR
VERSION:2.0
PRODID:-//Gratis-in-Berlin//NONSGML kigkonsult.se iCalcreator 2.14//
METHOD:PUBLISH
X-WR-CALNAME:Gratis-in-Berlin Tip Kalender
X-WR-CALDESC:Erhalte Gratis-in-Berlin Tips in deinem Kalender
BEGIN:VEVENT
UID:20260424T100652UTC-46168XXUgc@Gratis-in-Berlin
DTSTAMP:20260424T100652Z
DESCRIPTION:Liebe Freunde!sehr herzlich laden wir zum ökumenischen meditativen
  Gebet mit Gesängen aus Taizé ein. Dieses Jahr werden wir in der evangelischen
  Kirchengemeinde Gustav ? Adolf in Charlottenburg zu Gast sein.Samstag\, 2
 5.11.2023 zu 19 UhrGustav?Adolf?KircheHerschelstr. 14 ? 10589 BerlinS + U 
 JungfernheideIm Abendgebet werden wir die Kirche mit kleinen Handkerzen er
 leuchten. Das Licht der Osterkerze wird so an jede und jeden Einzelnen wei
 tergereicht. In der ?Nacht der Lichter' möchten wir singen\, beten\, zur Ruhe
  kommen und einander das Licht weiterreichen. Wir freuen uns auf einen gem
 einsamen Abend im Geiste von Taizé.In Vorbereitung auf das Gebet suchen wir 
 engagierte Sänger und Instrumentalisten. Wenn Sie Interesse verspüren\, im kleine
 n Chor während der Nacht der Lichter zu singen oder zu spielen\, dann laden 
 wir herzlich zu vorbereitenden offenen Proben:Di\, 14.11.2023\, 18-20 Uhr\
 , St. Canisius\, Witzlebenstraße 30\, 14057 Berlin-CharlottenburgDi\, 21.11
 .2023\, 18-20 Uhr\, St. Canisius\, Witzlebenstraße 30\, 14057 Berlin-Charlo
 ttenburgFr\, 24.11.2023\, 19-21 Uhr\, Gustav-Adolf-Kirche\, Herschelstrass
 e 14\, 10589 BerlinGerne freuen wir uns über eine kurze Nachricht im Vorfeld.Da
 s Gebet ist offen für alle ? jeder ist eingeladen!Es grüßt Sie herzlich das Vorberei
 tungsteam der Nacht der Lichter Berlin.Weitere Informationen:https://www.n
 achtderlichter.org/https://www.facebook.com/nachtderlichterberlinnachtderl
 ichterberlin@gmail.comhttp://www.taize.fr/de\n\nViel Spass wünscht Gratis-in-Be
 rlin\n\nLink zum Tip: \nZu den Gratis-in-Berlin Angeboten: http://www.grat
 is-in-berlin.de\n
DTSTART;VALUE=DATE:20231125
DTEND;VALUE=DATE:20231126
SUMMARY:Nacht der Lichter 2023 - Gebet mit Gesängen aus Taizé für Berlin
END:VEVENT
END:VCALENDAR
