BEGIN:VCALENDAR
VERSION:2.0
PRODID:-//Gratis-in-Berlin//NONSGML kigkonsult.se iCalcreator 2.14//
METHOD:PUBLISH
X-WR-CALNAME:Gratis-in-Berlin Tip Kalender
X-WR-CALDESC:Erhalte Gratis-in-Berlin Tips in deinem Kalender
BEGIN:VEVENT
UID:20260420T172518UTC-7418Kujg0p@Gratis-in-Berlin
DTSTAMP:20260420T172518Z
DESCRIPTION:Happy\, happy\, happy ? es ist der Wahnsinn!!!Niels Frevert kom
 mt zu einem exklusiven Akustikkonzert in die Musikbibliothek Berlin-Marzah
 n! Im Rahmen seiner ?Pseudopoesie Akustik Tour 2023? wird der Hamburger Mu
 siker sein im März erschienenes Album ?Pseudopoesie? vorstellen. Niels Freve
 rt ist Freunden anspruchsvoller Rockmusik ein Begriff\, seit er in den Neu
 nzigern als Sänger und Texter der über Deutschland hinaus bekannten Band ?Nationa
 lgalerie? in Erscheinung trat. Nach deren Auflösung entschloss er sich zu ein
 er Solokarriere. Seitdem hat er sieben Studioalben und ein Livealbum veröffen
 tlicht. Freverts Lieder sind musikalische Kleinode\, poetisch und skizzenh
 aft schildern sie Momente des Alltags- und Beziehungslebens und graben sic
 h in ihrer sanften Melancholie mühelos in die Ohren und Herzen ihrer Zuhörer.Niels
  Frevert tourt aktuell\, um seine neuen Lieder unplugged und in kleiner Be
 setzung vorzustellen. Dass er nun im Duo zusammen mit dem Keyboarder Marti
 n Hornung auch in Marzahn ein einmaliges Bibliothekskonzert geben wird\, i
 st uns die allergrößte Freude.Anmeldung dringend erbeten unter Telefon 54 704
  142 Eintritt frei\, Austritt: eine Spende an den Förderverein Stadtbibliothe
 k Marzahn-Hellersdorf e.V. zur Mitfinanzierung der Veranstaltungen.Bei ein
 igen Veranstaltungen in der Stadtbibliothek machen wir Fotos und/oder Vide
 os\, die ggf. auf unserer Webseite\, denen unserer Partner\, Facebook oder
  Instagram veröffentlicht werden.\n\nViel Spass wünscht Gratis-in-Berlin\n\nLink z
 um Tip: \nZu den Gratis-in-Berlin Angeboten: http://www.gratis-in-berlin.d
 e\n
DTSTART;VALUE=DATE:20231116
DTEND;VALUE=DATE:20231117
SUMMARY:Niels Frevert live in der Bibliothek: Pseudopoesie Akustik Tour 202
 3
END:VEVENT
END:VCALENDAR
