BEGIN:VCALENDAR
VERSION:2.0
PRODID:-//Gratis-in-Berlin//NONSGML kigkonsult.se iCalcreator 2.14//
METHOD:PUBLISH
X-WR-CALNAME:Gratis-in-Berlin Tip Kalender
X-WR-CALDESC:Erhalte Gratis-in-Berlin Tips in deinem Kalender
BEGIN:VEVENT
UID:20260420T142133UTC-99236tgI3Z@Gratis-in-Berlin
DTSTAMP:20260420T142133Z
DESCRIPTION:Tobias Panwitz aka Trailhead ein langjähriger Wegbegleiter auf un
 sere kleine Bühne\, der seit vielen Jahren zur deutschen Folk &amp\; Songwriter
 -Szene gehört.Tobias Panwitz hat fünf von der Presse hoch gelobte Alben eingespiel
 t und ist deutschland- und europaweit konstant auf Tournee. Seine Musik fi
 ndet dabei immer wieder ein positives Echo. ?Sublime'\, ?Erstaunlich'\, ?E
 xzellent' und ?Überzeugend' urteilten beispielsweise der Berliner Tagesspie
 gel\, Americana UK\, das Tip Stadtmagazin oder Americana Music Times.mehr 
 unter: https://www.trailheadmusic.com/\, www.klang-holz.dewww.claudia-nent
 wich.dewww.songs-auf-dem-boot.dewww.facebook.com/claudia.nentwichwww.faceb
 ook.com/songsaufdembootberlinSpotify: https://open.spotify.com/artist/5n7C
 i68dbyZdlEVJIpGkqtBandcamp: https://claudianentwich.bandcamp.com/releasesI
 nstagram: https://www.instagram.com/claudia.nentwich/?hl=deKlang-Holz e.V.
  auf der Zitadelle SpandauHaus 4 / Gerd-Steinmöller-KünstlerhausAm Juliusturm 64\,
  13599 BerlinEintritt frei(willig)Irrtümer und Änderungen sind möglich!Eintritt fre
 i(willig)Für euer Leibliches Wohl ist gesorgt.Anmeldung für Platzreservierungen bitt
 e nur über Klaus Wolf:kmwolf@klang-holz.deoder Tel.&nbsp\;017687339294\n\nViel 
 Spass wünscht Gratis-in-Berlin\n\nLink zum Tip: https://www.gratis-in-berlin.de
 /kalender/item/2063740-tobias-panwitz-singer-songwriter-live\nZu den Grati
 s-in-Berlin Angeboten: http://www.gratis-in-berlin.de\n
DTSTART;VALUE=DATE:20231125
DTEND;VALUE=DATE:20231126
SUMMARY:Tobias Panwitz Singer-Songwriter Live!
END:VEVENT
END:VCALENDAR
