BEGIN:VCALENDAR
VERSION:2.0
PRODID:-//Gratis-in-Berlin//NONSGML kigkonsult.se iCalcreator 2.14//
METHOD:PUBLISH
X-WR-CALNAME:Gratis-in-Berlin Tip Kalender
X-WR-CALDESC:Erhalte Gratis-in-Berlin Tips in deinem Kalender
BEGIN:VEVENT
UID:20260420T143200UTC-0591saTs5v@Gratis-in-Berlin
DTSTAMP:20260420T143200Z
DESCRIPTION:Manlio Maresca ? GuitarQuentin Cholet ? DrumsArne Braun ? Bass3
  careers that begin in the street \, but not the street of the day \, that
  of the night \, music that is born in certain suburban avenues that gener
 ates infecund love and misrepresentation of the senses . These are the sou
 nds that the 3 musicians offer you.Eintritt frei ? um angemessenen Kulturb
 eitrag wird gebeten.Free entry ? it is suggested to give some money if you
  like the band.Hinweis: Das Peppi ist eine Raucherinnenbar. Eintritt ab 18
  Jahren.Note: The Peppi is a smoking bar. Admission from 18 years.Live auf
  YouTube: https://www.youtube.com/watch?v=j4fVmig3kek#ManlioMarescaAndTheG
 astricJuices #ManlioMaresca #QuentinCholet #ArneBraun #jazz #Improvisation
  #Deconstruction #Distortion #Avantgare #Experimental #liveConcert #PeppiG
 uggenheim #Neukölln #Berlin #BerlinJazz #JazzNeukölln #JazzBerlin\n\nViel Spass 
 wünscht Gratis-in-Berlin\n\nLink zum Tip: \nZu den Gratis-in-Berlin Angeboten: 
 http://www.gratis-in-berlin.de\n
DTSTART;VALUE=DATE:20231110
DTEND;VALUE=DATE:20231111
SUMMARY:Jazz im Peppi: Manlio Maresca and the Gastric Juices
END:VEVENT
END:VCALENDAR
