BEGIN:VCALENDAR
VERSION:2.0
PRODID:-//Gratis-in-Berlin//NONSGML kigkonsult.se iCalcreator 2.14//
METHOD:PUBLISH
X-WR-CALNAME:Gratis-in-Berlin Tip Kalender
X-WR-CALDESC:Erhalte Gratis-in-Berlin Tips in deinem Kalender
BEGIN:VEVENT
UID:20260422T101717UTC-9465nNoPG1@Gratis-in-Berlin
DTSTAMP:20260422T101717Z
DESCRIPTION:Johannes Fink ? celloRieko Okuda ? keysAntti Virtaranta ? contr
 abassQuentin Cholet ? drumsFink Floyd lädt Sie ein zu einer musikalischen Re
 ise durch wunderbare Klanglandschaften. Erleben Sie\, wie die vier Musiker
  mit ihren Instrumenten kommunizieren\, experimentieren und improvisieren\
 , um neue Formen und Farben zu schaffen. Lassen Sie sich von der Vielfalt 
 und Tiefe ihrer Musik inspirieren\, die mal sanft und meditativ\, mal wild
  und energetisch ist. Fink Floyd ist eine Band\, die keine Grenzen kennt u
 nd immer bereit ist\, das Unbekannte zu erforschen. Kommen Sie und hören Sie 
 selbst\, was Fink Floyd für Sie bereithält.Eintritt frei ? um angemessenen Kultur
 beitrag wird gebeten.Free entry ? it is suggested to give some money if yo
 u like the band.Hinweis: Das Peppi ist eine Raucherinnenbar. Eintritt ab 1
 8 Jahren.Note: The Peppi is a smoking bar. Admission from 18 years.Live au
 f YouTube: https://www.youtube.com/watch?v=7bDD2Cfwo2g#FinkFloyd #Johannes
 Fink #RiekoOkuda #AnttiVirtaranta #QuentinCholet #jazz #Improvisation #Ava
 ntgare #liveConcert #PeppiGuggenheim #Neukölln #Berlin #BerlinJazz #JazzNeukölln
  #JazzBerlin\n\nViel Spass wünscht Gratis-in-Berlin\n\nLink zum Tip: https://ww
 w.gratis-in-berlin.de/kalender/item/2063837-jazz-im-peppi-fink-floyd\nZu d
 en Gratis-in-Berlin Angeboten: http://www.gratis-in-berlin.de\n
DTSTART;VALUE=DATE:20231117
DTEND;VALUE=DATE:20231118
SUMMARY:Jazz im Peppi: Fink Floyd
END:VEVENT
END:VCALENDAR
