BEGIN:VCALENDAR
VERSION:2.0
PRODID:-//Gratis-in-Berlin//NONSGML kigkonsult.se iCalcreator 2.14//
METHOD:PUBLISH
X-WR-CALNAME:Gratis-in-Berlin Tip Kalender
X-WR-CALDESC:Erhalte Gratis-in-Berlin Tips in deinem Kalender
BEGIN:VEVENT
UID:20260422T083604UTC-8103X31bpV@Gratis-in-Berlin
DTSTAMP:20260422T083604Z
DESCRIPTION:Seemannslieder aus Kreuzberg? Seit 15 Jahren keine Frage ? das 
 bringt nur die Shantycrew Kreuzberg an den Start.Hier gibt es keinen Kitsc
 h mit Akkordeon ? hier gilt:Ein Mann ? ein Song. Jeder steht mal vorn und 
 die Crew ist der Support.\n\nIm Gegensatz zu den Grünen haben wir das Rotations
 prinzip durchgehalten und wir lieben es.\n\nMit dem DIY Spirit des Punk st
 ürzen unsere proletarischen Hymnen der See das Publikum in ein Wechselbad der G
 efühle. Mitsingen ist das beste Rezept für einen fantastischen Abend.Die Crew singt 
 hauptsächlich in englischer Sprache traditionelle Shanties aus der Zeit der 
 kommerziellen Segelschifffahrt. Niemand aus der Crew war jemals Seemann.\n
 \n\nViel Spass wünscht Gratis-in-Berlin\n\nLink zum Tip: \nZu den Gratis-in-Ber
 lin Angeboten: http://www.gratis-in-berlin.de\n
DTSTART;VALUE=DATE:20231124
DTEND;VALUE=DATE:20231125
SUMMARY:'Shantycrew Kreuzberg' - Konzert im RegenbogenKino
END:VEVENT
END:VCALENDAR
