BEGIN:VCALENDAR
VERSION:2.0
PRODID:-//Gratis-in-Berlin//NONSGML kigkonsult.se iCalcreator 2.14//
METHOD:PUBLISH
X-WR-CALNAME:Gratis-in-Berlin Tip Kalender
X-WR-CALDESC:Erhalte Gratis-in-Berlin Tips in deinem Kalender
BEGIN:VEVENT
UID:20260420T172611UTC-9640MeiidA@Gratis-in-Berlin
DTSTAMP:20260420T172611Z
DESCRIPTION:Ort: Kirche Am HohenzollernplatzVenezianische Renaissance-Musik
  aus Deutschland erklingt in diesem NoonSong: Sowohl Gregor Aichinger\, de
 r in Augsburg wirkte\, wie auch der Dresdner Kreuzkantor Heinrich Schütz studie
 rten in Venedig bei Giovanni Gabrieli. Mehrchöriger Glanz und virtuose Polyph
 onie zeichnen die Werke aus.Preces: Thomas Morley (1557-1602): Preces &amp
 \; ResponsesTagespsalm: Psalm 150: Gregor Aichinger (1564-1628): Laudate D
 ominumWochenpsalm: Psalm 126\,5-6: Heinrich Schütz (1585-1672): Die mit Tränen säen
  (SWV 378)Responsorium: gregorianischCanticum: Heinrich Schütz (1585-1672): Uns
 er keiner lebet ihm selber (SWV 374)Choral: Johann Sebastian Bach (1685-17
 50): Wachet auf\, ruft uns die Stimme (BWV 140\,7)sirventes berlin\, Leitu
 ng: Stefan SchuckEintritt frei\, Spendenmöglichkeit: https://noonsong.de/kont
 akt/#anker-unterstuetzen-sie-uns\n\nViel Spass wünscht Gratis-in-Berlin\n\nLink
  zum Tip: \nZu den Gratis-in-Berlin Angeboten: http://www.gratis-in-berlin
 .de\n
DTSTART;VALUE=DATE:20231125
DTEND;VALUE=DATE:20231126
SUMMARY:NoonSong mit venezianischer Renaissance-Musik aus Deutschland
END:VEVENT
END:VCALENDAR
