BEGIN:VCALENDAR
VERSION:2.0
PRODID:-//Gratis-in-Berlin//NONSGML kigkonsult.se iCalcreator 2.14//
METHOD:PUBLISH
X-WR-CALNAME:Gratis-in-Berlin Tip Kalender
X-WR-CALDESC:Erhalte Gratis-in-Berlin Tips in deinem Kalender
BEGIN:VEVENT
UID:20260420T143202UTC-8110uGbB9v@Gratis-in-Berlin
DTSTAMP:20260420T143202Z
DESCRIPTION:Danke für Kommentar\, wird vom 24.11. rückdatiert\, weil nicht kostenlos.
 Gustav Mahler: Symphonie Nr. 6 a-MollSymphonieorchester der UdK BerlinLeit
 ung: Steven SloaneDie sechste Sinfonie a-Moll ist ein Klassiker des Konzer
 trepertoires. Sie zieht das Publikum mit ihren wuchtigen und aufbrausenden
  Gefühlsausbrüchen sowie den bekannten markigen Hammerschlägen in ihren Bann. Diese dr
 amatische Tonsprache wird ergänzt durch die für Mahler typischen extrem zarten Fa
 rben und den hörbaren spätromantischen Wiener Zeitgeist. Ein Werk\, das jedes M
 al wieder die ganze Bandbreite menschlicher Gefühle vereint und den Hörer*innen ei
 nen Musikgenuss auf höchstem Niveau bietet!Im vergangenen Jahr setzte das Sym
 phonieorchester der UdK Berlin mit dem ?Konzert für den Frieden? unter der Leit
 ung von Steven Sloane in der Berliner Philharmonie ein Zeichen für den Frieden.
  Am 24. November ist das Orchester nun erneut zu Gast in der Berliner Phil
 harmonie und bietet dem Publikum mit Mahlers sechster Sinfonie a-Moll eine
 n weiteren Höhepunkt des Mahler-Zyklus.Der Dirigent Steven Sloane ist Künstlerisch
 er Leiter des Orchesters und hat eine Professur für Dirigieren an der UdK Berli
 n seit 2013.Der Vorverkauf ist an allen VVK-Stellen und über den Link (siehe un
 ten) möglich. Persönlicher Ticketverkauf an der UdK-Vorverkaufskasse am Konzerts
 aal ist an folgenden Terminen möglich:Freitag\, 17.11.\, 14-17 UhrMontag\, 20
 .11.\, 16-19 UhrUm 19.15 Uhr gibt Prof. Dr. Ariane Jeßulat im Südfoyer eine Einf
 ührung in das Werk.\n\nViel Spass wünscht Gratis-in-Berlin\n\nLink zum Tip: \nZu den
  Gratis-in-Berlin Angeboten: http://www.gratis-in-berlin.de\n
DTSTART;VALUE=DATE:20231110
DTEND;VALUE=DATE:20231111
SUMMARY:Symphonieorchester der UdK Berlin in der Philharmonie Berlin
END:VEVENT
END:VCALENDAR
