BEGIN:VCALENDAR
VERSION:2.0
PRODID:-//Gratis-in-Berlin//NONSGML kigkonsult.se iCalcreator 2.14//
METHOD:PUBLISH
X-WR-CALNAME:Gratis-in-Berlin Tip Kalender
X-WR-CALDESC:Erhalte Gratis-in-Berlin Tips in deinem Kalender
BEGIN:VEVENT
UID:20260420T172818UTC-4067VmeUmm@Gratis-in-Berlin
DTSTAMP:20260420T172818Z
DESCRIPTION:Am Sonntag laden wir dich zusammen mit dem Satellit zu einem Ko
 nzert der besonderen Art ein. Du hast die Chance\, den Frauenchor ?Haarsch
 arf? live zu erleben. Das Repertoire des Chors umfasst Stücke der unterschiedli
 chsten Stilvarianten. Das Konzert wird gefördert durch das ?Netzwerk Kultur T
 eilhabe älterer Menschen? und ist deshalb für dich kostenfrei! Komm vorbei!Bitte 
 beachte\, dass die Räumlichkeiten des Satellit leider nicht barrierefrei sin
 d.Alle Veranstaltungen im Überblick findest du auf unserer Website:&nbsp\;v
 olkssolidaritaet-berlin.de/einrichtungen/stadtteilzentrum-friedrichshain/B
 ei Rückfragen wende dich gern an uns unter stz-friedrichshain@volkssolidaritaet
 .de oder 030/403 66 11 27.\n\nViel Spass wünscht Gratis-in-Berlin\n\nLink zum T
 ip: https://www.gratis-in-berlin.de/musik/item/2064276-auftritt-des-frauen
 chors-haarscharf\nZu den Gratis-in-Berlin Angeboten: http://www.gratis-in-
 berlin.de\n
DTSTART;VALUE=DATE:20231119
DTEND;VALUE=DATE:20231120
SUMMARY:Auftritt des Frauenchors 'Haarscharf'
END:VEVENT
END:VCALENDAR
