BEGIN:VCALENDAR
VERSION:2.0
PRODID:-//Gratis-in-Berlin//NONSGML kigkonsult.se iCalcreator 2.14//
METHOD:PUBLISH
X-WR-CALNAME:Gratis-in-Berlin Tip Kalender
X-WR-CALDESC:Erhalte Gratis-in-Berlin Tips in deinem Kalender
BEGIN:VEVENT
UID:20260424T083124UTC-7179cNpTcb@Gratis-in-Berlin
DTSTAMP:20260424T083124Z
DESCRIPTION:DuoNacha Daraio\, VoiceEzequiel Acosta\, BandoneonTango from Ar
 gentinia\n\nViel Spass wünscht Gratis-in-Berlin\n\nLink zum Tip: https://www.gr
 atis-in-berlin.de/kalender/item/2064367-artsalon-bei-kiezkultur\nZu den Gr
 atis-in-Berlin Angeboten: http://www.gratis-in-berlin.de\n
DTSTART;VALUE=DATE:20231123
DTEND;VALUE=DATE:20231124
SUMMARY:ArtSalon bei KiezKultur
END:VEVENT
END:VCALENDAR
