BEGIN:VCALENDAR
VERSION:2.0
PRODID:-//Gratis-in-Berlin//NONSGML kigkonsult.se iCalcreator 2.14//
METHOD:PUBLISH
X-WR-CALNAME:Gratis-in-Berlin Tip Kalender
X-WR-CALDESC:Erhalte Gratis-in-Berlin Tips in deinem Kalender
BEGIN:VEVENT
UID:20260420T085340UTC-3846dMF93v@Gratis-in-Berlin
DTSTAMP:20260420T085340Z
DESCRIPTION:Jeden ersten Sonntag des Monats\, am 2.6.24\, spielen ab 17:00 
 Berliner Musikgruppen auf dem Tempelhofer Feld vor Haus 104\, Eingang Oder
 strasse oder Columbiadamm. Am Sonntag beginnt das Blackbird Café Orchestra u
 nter der Leitung von Uwe Langer von den 17 Hippies.\n\nViel Spass wünscht Grati
 s-in-Berlin\n\nLink zum Tip: https://www.gratis-in-berlin.de/musik/item/20
 67127-musik-auf-dem-feld\nZu den Gratis-in-Berlin Angeboten: http://www.gr
 atis-in-berlin.de\n
DTSTART;VALUE=DATE:20240602
DTEND;VALUE=DATE:20240603
SUMMARY:Musik auf dem Feld 
END:VEVENT
END:VCALENDAR
