BEGIN:VCALENDAR
VERSION:2.0
PRODID:-//Gratis-in-Berlin//NONSGML kigkonsult.se iCalcreator 2.14//
METHOD:PUBLISH
X-WR-CALNAME:Gratis-in-Berlin Tip Kalender
X-WR-CALDESC:Erhalte Gratis-in-Berlin Tips in deinem Kalender
BEGIN:VEVENT
UID:20260420T132524UTC-6440tUvV2P@Gratis-in-Berlin
DTSTAMP:20260420T132524Z
DESCRIPTION:Von Sufi Dub über tansanischen Bongo Flava bis zu Balochi Benjo Klänge
 n aus Pakistan: das Open-Air Musikfestival DURCHLÜFTEN präsentiert an vier So
 mmerwochenenden (18. JULI ? 10. AUGUST)\, jeweils Donnerstag\, Freitag und
  Samstags ab 19:00 Uhr im Innenhof des Humboldt Forum Konzerte und DJ Sets
  über Kontinente und Grenzen hinweg ? umsonst und draußen.Etuk Ubong gilt als ei
 ner der spannesten Trompeter des Kontinents. Seun Kuti hat ihn als ?one of
  the best things to come out of Lagos? bezeichnet. Ubong begann im Alter v
 on 14 Jahren Trompete zu spielen und hat sie seither nicht mehr weggelegt.
 Mit seiner fünfköpfigen Band schafft er seinen ganz eigenen Mix aus komplexen B
 läserarrangements und treibender Percussion. Seine Musik ist nicht nur ungla
 ublich rasant\, sondern transportiert auch politisch aufgeladene Texte\, b
 esonders bei Titeln wie African Struggle und Mass Corruption. Nach seinem 
 umjubelten Auftritt bei Durchlüften 2022 freut er sich auf ein Wiedersehen mit 
 dem Berliner Publikum.- kostenfrei- kein Ticket erforderlich- Schlüterhof\n\nVi
 el Spass wünscht Gratis-in-Berlin\n\nLink zum Tip: \nZu den Gratis-in-Berlin An
 geboten: http://www.gratis-in-berlin.de\n
DTSTART;VALUE=DATE:20240801
DTEND;VALUE=DATE:20240802
SUMMARY:Etuk Ubong. Durchlüften 2024. Live Konzerte & DJ Acts
END:VEVENT
END:VCALENDAR
