BEGIN:VCALENDAR
VERSION:2.0
PRODID:-//Gratis-in-Berlin//NONSGML kigkonsult.se iCalcreator 2.14//
METHOD:PUBLISH
X-WR-CALNAME:Gratis-in-Berlin Tip Kalender
X-WR-CALDESC:Erhalte Gratis-in-Berlin Tips in deinem Kalender
BEGIN:VEVENT
UID:20260420T101701UTC-37120cGGMx@Gratis-in-Berlin
DTSTAMP:20260420T101701Z
DESCRIPTION:Das Beste von zwei DJ Generationen...bestes Vinyl und Bytes....
 .\n\nViel Spass wünscht Gratis-in-Berlin\n\nLink zum Tip: \nZu den Gratis-in-Be
 rlin Angeboten: http://www.gratis-in-berlin.de\n
DTSTART;VALUE=DATE:20240801
DTEND;VALUE=DATE:20240802
SUMMARY:DJ-Tag im Peppi Guggenheim: Jazz Ape & Ursula Undress
END:VEVENT
END:VCALENDAR
