BEGIN:VCALENDAR
VERSION:2.0
PRODID:-//Gratis-in-Berlin//NONSGML kigkonsult.se iCalcreator 2.14//
METHOD:PUBLISH
X-WR-CALNAME:Gratis-in-Berlin Tip Kalender
X-WR-CALDESC:Erhalte Gratis-in-Berlin Tips in deinem Kalender
BEGIN:VEVENT
UID:20260420T130220UTC-9988jAuSlL@Gratis-in-Berlin
DTSTAMP:20260420T130220Z
DESCRIPTION:Von Sufi Dub über tansanischen Bongo Flava bis zu Balochi Benjo Klänge
 n aus Pakistan: das Open-Air Musikfestival DURCHLÜFTEN präsentiert an vier So
 mmerwochenenden (18. JULI ? 10. AUGUST)\, jeweils Donnerstag\, Freitag und
  Samstags ab 19:00 Uhr im Innenhof des Humboldt Forum Konzerte und DJ Sets
  über Kontinente und Grenzen hinweg ? umsonst und draußen.Fulu Miziki (DR Kongo)
 Percussion-Gewitter\, Afro-Futurismus\, Punk-Attitüde und Umwelt-Aktivismus... 
 das Kollektiv Fulu Miziki aus Kinshasa dreht all das durch den Wolf und br
 ingt es mit High Speed auf die Bühne. Fulu Miziki bedeutet so viel wie ?Musik a
 us Müll?\, was sich nicht nur auf die aus Schrott selbst gebauten Instrumente u
 nd Masken der Band bezieht. Fulu Miziki schafft aus der alltäglichen Härte Kin
 shasas einen rebellischen Sound\, der nach konkreten politischen Veränderung
 en schreit. Das multidisziplinäre Künstler*innenkollektiv hat eine klare panafrik
 anische Botschaft und verbreitet in Workshops und Jugendprojekten seine Vi
 sion für eine künstlerische und nachhaltige Zukunft des afrikanischen Kontinents.- k
 ostenfrei- kein Ticket erforderlich- Schlüterhof- Gehört zu: DURCHLÜFTEN ? 2024\n\n
 Viel Spass wünscht Gratis-in-Berlin\n\nLink zum Tip: \nZu den Gratis-in-Berlin 
 Angeboten: http://www.gratis-in-berlin.de\n
DTSTART;VALUE=DATE:20240808
DTEND;VALUE=DATE:20240809
SUMMARY:Fulu Miziki. Durchlüften ? 2024 Live Konzerte & DJ Acts
END:VEVENT
END:VCALENDAR
