BEGIN:VCALENDAR
VERSION:2.0
PRODID:-//Gratis-in-Berlin//NONSGML kigkonsult.se iCalcreator 2.14//
METHOD:PUBLISH
X-WR-CALNAME:Gratis-in-Berlin Tip Kalender
X-WR-CALDESC:Erhalte Gratis-in-Berlin Tips in deinem Kalender
BEGIN:VEVENT
UID:20260420T143204UTC-3274XtWT7h@Gratis-in-Berlin
DTSTAMP:20260420T143204Z
DESCRIPTION:Von Sufi Dub über tansanischen Bongo Flava bis zu Balochi Benjo Klänge
 n aus Pakistan: das Open-Air Musikfestival DURCHLÜFTEN präsentiert an vier So
 mmerwochenenden (18. JULI ? 10. AUGUST)\, jeweils Donnerstag\, Freitag und
  Samstags ab 19:00 Uhr im Innenhof des Humboldt Forum Konzerte und DJ Sets
  über Kontinente und Grenzen hinweg ? umsonst und draußen.DJ Alai KAlai K ist da
 s Pseudonym des kenianischen Produzenten\, Musikers und Singer-Songwriters
  Abdalla Khamis Abdalla. Geboren in Mombasa\, lebt und arbeitet Alai K heu
 te in Berlin und produziert seinen ganz eigenen Soundmix aus kenianischem 
 Hip-Hop\, viel Elektro und traditionellen ost-afrikanischen Küstenrhythmen. Ala
 i Ks Auftritte sind ein Mix aus Live-Instrumenten\, Electro Beats\, Mijike
 nda-Rhythmen\, Chakacha- und Benga-Musik und spannen einen weiten Bogen tr
 ansnationaler\, afrikanischer Musikkultur.- kostenfrei- kein Ticket erford
 erlich- Schlüterhof- Gehört zu: DURCHLÜFTEN ? 2024\n\nViel Spass wünscht Gratis-in-Berli
 n\n\nLink zum Tip: \nZu den Gratis-in-Berlin Angeboten: http://www.gratis-
 in-berlin.de\n
DTSTART;VALUE=DATE:20240808
DTEND;VALUE=DATE:20240809
SUMMARY:DJ Alai K. Durchlüften ? 2024 Live Konzerte & DJ Acts
END:VEVENT
END:VCALENDAR
