BEGIN:VCALENDAR
VERSION:2.0
PRODID:-//Gratis-in-Berlin//NONSGML kigkonsult.se iCalcreator 2.14//
METHOD:PUBLISH
X-WR-CALNAME:Gratis-in-Berlin Tip Kalender
X-WR-CALDESC:Erhalte Gratis-in-Berlin Tips in deinem Kalender
BEGIN:VEVENT
UID:20260420T145427UTC-68719imtTG@Gratis-in-Berlin
DTSTAMP:20260420T145427Z
DESCRIPTION:Das furiose Welmusik Blackbird Cafe Orchestra spilelt am Samsta
 g\, 03.08.24\, um 20:00 im Gartendafe Pandoras neben der Hl. Kreuz Kirche 
 am Blücherplatz. Ein Hut geht rum.&nbsp\;\n\nViel Spass wünscht Gratis-in-Berlin\n\n
 Link zum Tip: https://www.gratis-in-berlin.de/kalender/item/2068037-blackb
 ird-cafe-orchestra-im-pandoras\nZu den Gratis-in-Berlin Angeboten: http://
 www.gratis-in-berlin.de\n
DTSTART;VALUE=DATE:20240803
DTEND;VALUE=DATE:20240804
SUMMARY:Blackbird Cafe Orchestra im Pandoras
END:VEVENT
END:VCALENDAR
