BEGIN:VCALENDAR
VERSION:2.0
PRODID:-//Gratis-in-Berlin//NONSGML kigkonsult.se iCalcreator 2.14//
METHOD:PUBLISH
X-WR-CALNAME:Gratis-in-Berlin Tip Kalender
X-WR-CALDESC:Erhalte Gratis-in-Berlin Tips in deinem Kalender
BEGIN:VEVENT
UID:20260419T130410UTC-3483pue6TD@Gratis-in-Berlin
DTSTAMP:20260419T130410Z
DESCRIPTION:Album Promotion Tour 2024: Meet &amp\; Greet mit Eko Fresh in d
 en Gropius PassagenDer aus Köln stammende Rapper Eko Fresh begibt sich auf Pr
 omotion Tour und stellt am 9. August 2024 sein 13. Studioalbum namens ?Eli
 jah? in den Gropius Passagen in Berlin-Neukölln vor. Besucherinnen und Besuch
 er bekommen von 18 Uhr bis 19:30 Uhr die Gelegenheit\, Eko Fresh zum einen
  live zu erleben und ihn\, zum anderen\, vor Ort zu treffen und Hintergründe zu
 m neuen Album zu erfahren. Darüber hinaus verlosen die Gropius Passagen 25 der 
 exklusiven ?Elijah?-Fanboxen auf ihren Social-Media-Kanälen.Eko Fresh ist au
 s der Deutsch-Rap-Szene nicht wegzudenken. Mit 15 Jahren begann er zu rapp
 en\, mit 17 holte ihn Rap-Legende Kool Savas nach Berlin und 2003 veröffentli
 chte Eko sein erstes Album. Im Laufe der Jahre hat er bereits 12 Alben ver
 öffentlicht und ist jetzt auf Tour für seine 13. Platte. Aber auch als Schauspiele
 r\, Synchronsprecher und in Fernsehproduktionen ist Eko Fresh\, der eigent
 lich Ekrem Bora heißt\, zu sehen und zu hören.Mit einer Mischung aus neu defin
 ierten Sounds und Ekos ehrlichem Textstil liefert Freezy erneut ein Album\
 , das sowohl seine bisherige Karriere als einer der erfolgreichsten Künstler eh
 rt\, als auch seine persönliche und künstlerische Entwicklung widerspiegelt. Eko w
 idmet dieses Album an Vergangenes und Neues und seiner Fähigkeit\, sich über all 
 die Jahre trotzdem treu zu bleiben. 'Elijah' wird am 09.08. mit einer Viel
 falt an ehrlichen Texten und einprägsamen Sounds veröffentlicht.In diesem Jahr 
 war er außerdem bei ?Sing meinen Song ? Das Tauschkonzert? dabei und hat do
 rt\, in der Sendung vom 5. Juli 2024\, die erste Single aus seinem aktuell
 en Album vorgestellt\, die den Titel ?Aquarium? trägt.Jetzt ist Eko Fresh au
 f Tour\, um seine neue Platte ?Elijah? vorzustellen und über seine lange Karrie
 re zu plaudern. Am 9. August macht er dabei Station in den Gropius Passage
 n und lädt zu einem exklusiven Meet &amp\; Greet. An diesem Tag steht der Ra
 pper von 18:00 bis 19:30 Uhr seinen Fans Rede und Antwort und bietet ihnen
  die Chance\, ihn live und aus nächster Nähe zu sehen. Natürlich wird er dabei auch
  Songs aus dem neuen Album performen.Darüber hinaus verlosen die Gropius Passag
 en in diesem Rahmen auch 25 exklusive Fanboxen des neuen Albums. Wie man a
 n dieses Must-have für jeden echten Fan rankommt\, erfährt man nur über die Social-Med
 ia-Kanäle des Centers.?Eko Fresh ist eine Legende\, wenn es um deutschen Rap
  geht. Er gehört zu denen\, die das Genre erst groß gemacht haben ? mit eigene
 n Titeln\, aber eben auch als Songwriter für andere. Darüber hinaus ist er ein echte
 s Multitalent. Das kann man nur bewundern\, und wir freuen uns sehr\, dass
  er sich für die Gropius Passagen als Ort entschieden hat?\, erklärt Oliver Heuch
 ert\, Center-Manager der Gropius Passagen.Die Veranstaltung findet im Atri
 um der Gropius Passagen statt und ist für alle begeisterten Fans sowie für die Besuc
 herinnen und Besucher des Centers kostenlos und kann ohne Voranmeldung bes
 ucht werden.AttachmentsEko Album Cover.JPG(c) Ben HammerEko Fresh (c) Ben 
 Hammer.jpgÜber die Gropius Passagen:Die Gropius Passagen im Bezirk Neukölln si
 nd das größte Shoppingcenter Berlins sowie eines der größten Center Deutschlands
 . Auf mehr als 90.000 Quadratmetern finden Besucher über 150 Shops\, unter ande
 rem Media Markt\, H&amp\;M\, Douglas sowie die UCI Kinowelt. Als klassisch
 er Nahversorger und etablierter Fashion-Spezialist bieten die Gropius Pass
 agen sowohl ein Angebot an alltäglichen Bedarfsgütern als auch ein Sortiment an M
 odeartikeln von namhaften\, international agierenden Shops und Marken. Uni
 bail-Rodamco Germany GmbH managt das Neuköllner Shoppingcenter.Über Unibail-Ro
 damco-WestfieldUnibail-Rodamco-Westfield ist ein Eigentümer\, Entwickler und Be
 treiber von nachhaltigen hochwertigen Immobilien in den dynamischsten Städte
 n Europas und der USA. Die Gruppe betreibt 72 Shoppingcenter in 12 Ländern\,
  darunter 38 mit dem weltberühmten Westfield-Brand im Namen. Diese Center werde
 n jährlich über 900 Millionen Mal besucht und bieten Retailern und Marken eine ei
 nzigartige Plattform\, um mit den Besucher:innen in Kontakt zu treten. In 
 Deutschland betreibt die Gruppe aktuell 19 Shoppingcenter\, davon acht im 
 eigenen Portfolio. URW verfügt zudem über ein Portfolio aus hochwertigen Büros\, zehn Kon
 gress- und Ausstellungszentren in Paris und eine Projektentwicklungspipeli
 ne von drei Milliarden Euro mit hauptsächlich gemischt genutzten Assets. Das
  Portfolio im Wert von 50 Milliarden Euro besteht zu 86 % aus Handelsimmob
 ilien\, zu 6 % aus Büroimmobilien\, zu 5 % aus Kongress- und Ausstellungszentre
 n und zu 2 % aus Dienstleistungsflächen (Stand: 31. Dezember 2023).URW ist e
 in engagierter Partner von Großstädten bei der Erneuerung und Modernisierung 
 urbaner Räume ? sowohl durch die Entwicklung von gemischt genutzten Immobili
 en als auch bei der Nachrüstung von Gebäuden gemäß branchenführender Nachhaltigkeitsstan
 dards. Dieses Engagement wird durch den 'Better Places'-Plan der Gruppe ve
 rstärkt\, der darauf abzielt\, einen positiven ökologischen\, sozialen und wirt
 schaftlichen Einfluss auf die Städte und Gemeinschaften zu erwirken\, in den
 en URW tätig ist. URW ist an der Börse Euronext Paris (Ticker: URW) gelistet. E
 ine Zweitnotiz wurde in Australien durch 'Chess Depositary Interests' eing
 erichtet. Die Gruppe genießt ein Rating in der Kategorie BBB+ bei Standard 
 &amp\; Poor?s und in der Kategorie Baa2 bei Moody?s. Weitere Informationen
  finden Sie unter: www.urw.com sowie www.unibail-rodamco-westfield.de\n\nV
 iel Spass wünscht Gratis-in-Berlin\n\nLink zum Tip: \nZu den Gratis-in-Berlin A
 ngeboten: http://www.gratis-in-berlin.de\n
DTSTART;VALUE=DATE:20240809
DTEND;VALUE=DATE:20240810
SUMMARY:Album Promotion Tour 2024: Meet & Greet mit Eko Fresh in den Gropiu
 s Passagen
END:VEVENT
END:VCALENDAR
