BEGIN:VCALENDAR
VERSION:2.0
PRODID:-//Gratis-in-Berlin//NONSGML kigkonsult.se iCalcreator 2.14//
METHOD:PUBLISH
X-WR-CALNAME:Gratis-in-Berlin Tip Kalender
X-WR-CALDESC:Erhalte Gratis-in-Berlin Tips in deinem Kalender
BEGIN:VEVENT
UID:20260422T085909UTC-2787hUTPiZ@Gratis-in-Berlin
DTSTAMP:20260422T085909Z
DESCRIPTION:Das inklusive Soundprojekt der Brotfabrik Weißensee bietet versc
 hiedene Workshops an. Jeden Donnerstag findet die inklusive Soundwerkstatt
  in der Brotfabrik Galerie statt.Das kostenlose Workshop-Angebot ist für alle M
 enschen jeden Alters geeignet\, die sich gern mit Sounds\, Klängen\, Geräusche
 n und Tönen beschäftigen wollen. Gemeinsam erstellen wir beispielsweise Klangco
 llagen oder entwickeln eigene Sounds. Aufnahmetechnik und Audioschnitttech
 nik und Software werden kostenlos bereitgestellt.\n\nViel Spass wünscht Gratis-
 in-Berlin\n\nLink zum Tip: https://www.gratis-in-berlin.de/kalender/item/2
 068301-inklusive-soundwerkstatt\nZu den Gratis-in-Berlin Angeboten: http:/
 /www.gratis-in-berlin.de\n
DTSTART;VALUE=DATE:20240815
DTEND;VALUE=DATE:20240816
SUMMARY:inklusive Soundwerkstatt
END:VEVENT
END:VCALENDAR
