BEGIN:VCALENDAR
VERSION:2.0
PRODID:-//Gratis-in-Berlin//NONSGML kigkonsult.se iCalcreator 2.14//
METHOD:PUBLISH
X-WR-CALNAME:Gratis-in-Berlin Tip Kalender
X-WR-CALDESC:Erhalte Gratis-in-Berlin Tips in deinem Kalender
BEGIN:VEVENT
UID:20260420T143245UTC-13989dvEx3@Gratis-in-Berlin
DTSTAMP:20260420T143245Z
DESCRIPTION:Ab 14:00 Uhr. Der OHRENBÄR\, Hörgeschichten für Kinder.15 Uhr Meike Rötzer:
  Wie es euch gefällt. Erster Streich. Meike Rötzer erzählt den Klassiker in zwei 
 Teilen. Jeweils am Sonntag (Teil 1: 25. August\, Teil 2: 01. September).Ab
  16:00 Uhr. 'Thadeusz und die Beobachter' - Polit-Talk17 Uhr Musikquiz mit
  Andreas GöbelDieses Jahr feiert radioeins wieder ein Parkfest auf dem Hauptp
 latz im Park am Gleisdreieck (Ostteil\, Eingang Hornstraße) Eine Woche lang
  Livesendungen\, Konzerte\, Comedy\, Hörspielkino\, Theater\, Sportstunden un
 d mehr spannende Veranstaltungen in einer tollen Biergarten-Atmosphäre - ums
 onst und draußen. Dann entweder über die verlinkte Website durchhangeln oder (au
 ch bis zum Start im August \;-) in unseren Tagestips für Heute&nbsp\;und Morgen
 &nbsp\;schauen.\n\nViel Spass wünscht Gratis-in-Berlin\n\nLink zum Tip: \nZu de
 n Gratis-in-Berlin Angeboten: http://www.gratis-in-berlin.de\n
DTSTART;VALUE=DATE:20240825
DTEND;VALUE=DATE:20240826
SUMMARY:U.a. Thadeusz und die Beobachter auf Parkfest Gleisdreieck
END:VEVENT
END:VCALENDAR
