BEGIN:VCALENDAR
VERSION:2.0
PRODID:-//Gratis-in-Berlin//NONSGML kigkonsult.se iCalcreator 2.14//
METHOD:PUBLISH
X-WR-CALNAME:Gratis-in-Berlin Tip Kalender
X-WR-CALDESC:Erhalte Gratis-in-Berlin Tips in deinem Kalender
BEGIN:VEVENT
UID:20260420T115833UTC-9917VBdEUu@Gratis-in-Berlin
DTSTAMP:20260420T115833Z
DESCRIPTION:Pfarrteam\, MarienVokalquartett\, Johannes Huprich (Trompete)\,
  Marienkantorin Marie-Louise Schneider\, Marienorganist Xaver Schult\n\nVi
 el Spass wünscht Gratis-in-Berlin\n\nLink zum Tip: \nZu den Gratis-in-Berlin An
 geboten: http://www.gratis-in-berlin.de\n
DTSTART;VALUE=DATE:20250420
DTEND;VALUE=DATE:20250421
SUMMARY:Gottesdienst an Ostern mit anschließender Prozession und Osterfrühstück i
 n St. Marien
END:VEVENT
END:VCALENDAR
