BEGIN:VCALENDAR
VERSION:2.0
PRODID:-//Gratis-in-Berlin//NONSGML kigkonsult.se iCalcreator 2.14//
METHOD:PUBLISH
X-WR-CALNAME:Gratis-in-Berlin Tip Kalender
X-WR-CALDESC:Erhalte Gratis-in-Berlin Tips in deinem Kalender
BEGIN:VEVENT
UID:20260419T130150UTC-3120uVcd6b@Gratis-in-Berlin
DTSTAMP:20260419T130150Z
DESCRIPTION:Im Rahmen der Ausstellung mit Werken von Jac Carley in der TAA 
 Galerie ?liest? und begleitet Paul Brody die Bilder mit der Trompete.Paul 
 Brody\, Komponist\, Performer und Klanginstallationskünstler\, verbindet Sprach
 e\, Kunst undMelodie\, ist einer der vielseitigsten Musiker\, die in Berli
 n arbeiten. Er tritt als Performer auf und hat im Humboldt Forum\, im Pier
 re Boulez Saal und am Gleisdreieck Klanginstallation geschaffen. Er arbeit
 ete u. a. für das MC93Haus der Kultur in Paris\, Schaubühne und Volksbühne in Berlin\, da
 s Internationale Tschechow-Theaterfestival in Moskau und das Jüdische Museum Be
 rlin. 2016 war Brody Artist in Residence bei den Münchner Kammerspielen.\n\nVie
 l Spass wünscht Gratis-in-Berlin\n\nLink zum Tip: \nZu den Gratis-in-Berlin Ang
 eboten: http://www.gratis-in-berlin.de\n
DTSTART;VALUE=DATE:20250313
DTEND;VALUE=DATE:20250314
SUMMARY:How To: Read Art with a Trumpet played by Paul Brody
END:VEVENT
END:VCALENDAR
