BEGIN:VCALENDAR
VERSION:2.0
PRODID:-//Gratis-in-Berlin//NONSGML kigkonsult.se iCalcreator 2.14//
METHOD:PUBLISH
X-WR-CALNAME:Gratis-in-Berlin Tip Kalender
X-WR-CALDESC:Erhalte Gratis-in-Berlin Tips in deinem Kalender
BEGIN:VEVENT
UID:20260420T132535UTC-5878sS3JJf@Gratis-in-Berlin
DTSTAMP:20260420T132535Z
DESCRIPTION:- mit Jens Svenson -Neues Layout\, bewährtes Konzept! Singen verb
 indet\, also tun wir es gemeinsam.Schön\, schräg\, flüsternd\, laut\, wütend\, zart... Li
 ederbücher und Liedbegleitung sind vorhanden.Gesungen wird auf Zuruf alles\, wa
 s wir finden\, gesungen werden will und unser Episkop an die Wand wirft:Be
 kannte\, abseitige\, nachdenkliche\, lustige... Lieblingslieder.\n\nViel S
 pass wünscht Gratis-in-Berlin\n\nLink zum Tip: \nZu den Gratis-in-Berlin Angebo
 ten: http://www.gratis-in-berlin.de\n
DTSTART;VALUE=DATE:20250411
DTEND;VALUE=DATE:20250412
SUMMARY:'If you want to sing out: Sing out' - Der Mitsingabend im Regenboge
 nKino
END:VEVENT
END:VCALENDAR
