BEGIN:VCALENDAR
VERSION:2.0
PRODID:-//Gratis-in-Berlin//NONSGML kigkonsult.se iCalcreator 2.14//
METHOD:PUBLISH
X-WR-CALNAME:Gratis-in-Berlin Tip Kalender
X-WR-CALDESC:Erhalte Gratis-in-Berlin Tips in deinem Kalender
BEGIN:VEVENT
UID:20260421T160139UTC-4200F50uNp@Gratis-in-Berlin
DTSTAMP:20260421T160139Z
DESCRIPTION:Irish tradtional Session. A group of musicians come together to
  continue the tradition of sharing songs and tunes\, whether it be old fav
 ourites or contemporary additions.\n\nViel Spass wünscht Gratis-in-Berlin\n\nLi
 nk zum Tip: \nZu den Gratis-in-Berlin Angeboten: http://www.gratis-in-berl
 in.de\n
DTSTART;VALUE=DATE:20260427
DTEND;VALUE=DATE:20260428
SUMMARY:Irish Music @ Pepppi Guggenheim:  Irish Trad Session
END:VEVENT
END:VCALENDAR
