BEGIN:VCALENDAR
VERSION:2.0
PRODID:-//Gratis-in-Berlin//NONSGML kigkonsult.se iCalcreator 2.14//
METHOD:PUBLISH
X-WR-CALNAME:Gratis-in-Berlin Tip Kalender
X-WR-CALDESC:Erhalte Gratis-in-Berlin Tips in deinem Kalender
BEGIN:VEVENT
UID:20260422T165320UTC-9694eer2Vj@Gratis-in-Berlin
DTSTAMP:20260422T165320Z
DESCRIPTION:Chöre im Körnerpark - Matineee Sonntagmittag um 12Die Chor - Erfolgs 
 - Nummer! Seit 2017Jeden Sonntag im Mai und im September\, immer um 12 Uhr
 \, zeigen zwei Chöre/Ensembles aus Berlin oder dem Berliner Umland\, was sie 
 'drauf' haben.Letztes Mal&nbsp\;Sonntag\, 28. September 2025Hochmeistercho
 rDer ?Hochmeisterchor?\, gegründet 1988\, wird seit 2014 von Christian Höffling ge
 leitet. Der Chor bietet 40 Sänger:innen einen musikalischen Hafen und realis
 iert jährlich zwei bis drei Konzertprojekte unterschiedlichster Couleur. Auf
  ihren jüngsten Programmen standen Purcells ?King Arthur? (2024)\, Chormusik au
 s Skandinavien (2024) und Shakespeare-Vertonungen von Morley bis Mäntyjärvi (2
 025) ? alle drei verrühren sie im Körnerpark zu einer wilden Mischung.Jazz?n Oldie
 sDer Name ?Jazz?n Oldies? bezieht sich weniger auf das Alter des Ensembles
  als vielmehr auf das Repertoire. Die Chormitglieder sind Sänger:innen\, die
  mit der Musik der 60-er und 70-er Jahren erwachsen geworden sind und desh
 alb ein Faible für Jazz\, Rock\, Folk\, Weltmusik haben. Von Beginn an wird der
  Chor von Susanne Faatz geleitet.Orange VoicesSo spritzig wie ein erfrisch
 ender Orangencocktail ? das sind die ?Orange Voices?. Der 40-köpfige Pop-Chor
  aus Oranienburg begeistert mit einem abwechslungsreichen Repertoire von P
 op-Hits\, rockigen Klängen\, Blues\, Jazz\, Gospel und a-cappella-Stücken. Mit ih
 rer Musik möchten die ?Orange Voices? ein unüberhörbares Zeichen für Menschlichkeit\, V
 ielfalt und Zusammenhalt setzen. Für die gefühlvollen Arrangements sorgt Chorleiteri
 n Suzy Bartelt.\n\nViel Spass wünscht Gratis-in-Berlin\n\nLink zum Tip: \nZu de
 n Gratis-in-Berlin Angeboten: http://www.gratis-in-berlin.de\n
DTSTART;VALUE=DATE:20250928
DTEND;VALUE=DATE:20250929
SUMMARY:Chöre im Körnerpark (im Mai & September)
END:VEVENT
END:VCALENDAR
