BEGIN:VCALENDAR
VERSION:2.0
PRODID:-//Gratis-in-Berlin//NONSGML kigkonsult.se iCalcreator 2.14//
METHOD:PUBLISH
X-WR-CALNAME:Gratis-in-Berlin Tip Kalender
X-WR-CALDESC:Erhalte Gratis-in-Berlin Tips in deinem Kalender
BEGIN:VEVENT
UID:20260421T102429UTC-5429UU4lur@Gratis-in-Berlin
DTSTAMP:20260421T102429Z
DESCRIPTION:Bonjour au Soleil! Ein Gruß an die Sonne! Zum Sommeranfang besch
 enkt sich Berlin wieder mit viel Musik bei der Fête de la Musique\, dem inte
 rnationalen Fest der Musik.Im Portal 4 des Humboldt Forum können Sie fünf vielfältig
 e Open-Air Chorkonzerte erleben ? ein Vorgeschmack auf ?Vielstimmig 2025?\
 , das große Chorfestival im Humboldt Forum .PROGRAMM16:00 Uhr: Déjà-Ouï16:30 Uh
 r: Pretty Noise17:00 Uhr: Hans-Beimler-Chor17:30 Uhr: Chorvereinigung Conc
 ordia Berlin-Mitte e.V.18:00 Uhr: Gemischter Chor der PolizeiDie Fête de la 
 Musique ist eine Erfindung aus Frankreich und wird in Berlin seit 1995 jährl
 ich am Tag der Sommersonnenwende gefeiert. Laien und Profis sämtlicher musik
 alischer Stilrichtungen präsentieren ihr Können bei freiem Eintritt und ohne Ga
 ge in der Öffentlichkeit.- kostenfrei- kein Ticket erforderlich- Portal 4\n
 \nViel Spass wünscht Gratis-in-Berlin\n\nLink zum Tip: \nZu den Gratis-in-Berli
 n Angeboten: http://www.gratis-in-berlin.de\n
DTSTART;VALUE=DATE:20250621
DTEND;VALUE=DATE:20250622
SUMMARY:Fête de la Musique 2025. Chorkonzerte im Schlüterhof
END:VEVENT
END:VCALENDAR
