BEGIN:VCALENDAR
VERSION:2.0
PRODID:-//Gratis-in-Berlin//NONSGML kigkonsult.se iCalcreator 2.14//
METHOD:PUBLISH
X-WR-CALNAME:Gratis-in-Berlin Tip Kalender
X-WR-CALDESC:Erhalte Gratis-in-Berlin Tips in deinem Kalender
BEGIN:VEVENT
UID:20260421T155621UTC-40284wApvs@Gratis-in-Berlin
DTSTAMP:20260421T155621Z
DESCRIPTION:Iakovos ' Jako ' Symeonidis - Gitarre \, KompositionenThomas Hähn
 lein - TenorsaxophonMaik Kleer - E-Bass\, KontrabassAaron Castrillo - Schl
 agzeugJazz\, Soul\, MotownDas Jako Quartett ist das neue Projekt des in Be
 rlin lebenden griechischen Gitarristen Iakovos ?Jako? Symeonidis. Die Band
  spielt Eigenkompositionen von Symeonidis und Stücke aus seinem Debütalbum ?Safe Pla
 ce?\, zusammen mit Songs aus der Jazztradition und Arrangements aus Funk u
 nd Soul. Im Mai 2025 nimmt die Band ein neues Album auf.Ziel der Band ist 
 es\, das Publikum durch die Kombination von Swing-\, Afro- und Funk-Groove
 s bestmöglich zu begeistern. Ziel der Band ist es\, ein neues Publikum für Jazzmus
 ik zu begeistern und die Begeisterung für Improvisation\, Spontaneität und Freihe
 it des Jazz zu teilen.Youtube:https://www.youtube.com/watch?v=QFkDpscinbIh
 ttps://www.youtube.com/watch?v=1m4H3ekyEiAWebsite : http://www.Jakosym.com
 Spotify: https://open.spotify.com/intl-de/album/6SohH3yGk3xkvuZrsVT2Ty?si=
 WOWqHY5iQgqUyKlSJvKpUwBandcamp : https://iak-sym.bandcamp.com/track/safe-p
 lacehttps://www.startnext.com/jako-quartet-albumEintritt frei ? um angemes
 senen Kulturbeitrag wird gebeten.Free entry ? it is suggested to give some
  money if you like the band.Das Peppi Guggenheim ist eine Raucherinnenbar!
  Einlass ab 18 Jahre!The Peppi Guggenheim is a smoking bar! Admission from
  18 years!Live auf YouTube: https://www.youtube.com/watch?v=SE3eaUvxjys#Ja
 koQuartet #Jako #IakovosSymeonidi #ThomasHaehnlein #MaikKleer #AaronCastri
 llo #Jazz #Soul #Motown #PeppiGuggenheim #Neukölln #Berlin #BerlinJazz #JazzN
 eukölln #JazzBerlin\n\nViel Spass wünscht Gratis-in-Berlin\n\nLink zum Tip: https:
 //www.gratis-in-berlin.de/kalender/item/2072773-jazz-peppi-jako-quartet\nZ
 u den Gratis-in-Berlin Angeboten: http://www.gratis-in-berlin.de\n
DTSTART;VALUE=DATE:20250621
DTEND;VALUE=DATE:20250622
SUMMARY:Jazz @ Peppi: Jako Quartet
END:VEVENT
END:VCALENDAR
