BEGIN:VCALENDAR
VERSION:2.0
PRODID:-//Gratis-in-Berlin//NONSGML kigkonsult.se iCalcreator 2.14//
METHOD:PUBLISH
X-WR-CALNAME:Gratis-in-Berlin Tip Kalender
X-WR-CALDESC:Erhalte Gratis-in-Berlin Tips in deinem Kalender
BEGIN:VEVENT
UID:20260421T125000UTC-3450rfuPKC@Gratis-in-Berlin
DTSTAMP:20260421T125000Z
DESCRIPTION:Axel Zajac ? GitarreXaver Feest ? BassJohannes Pfingsten ? Schl
 agzeugMathieu Bech ? Klavier\, KompositionThe martial band name is somewha
 t misleading: the quartet Phalanx doesn?t sound like a closed formation\, 
 but rather an open system. The relevant coordinates are jazz and something
  metal-avant-garde-like\, hard to define. Anything can actually happen wit
 hin these coordinates\, and when the band speaks of ?25 ideas? per composi
 tion\, this is still modestly formulated.The wealth of ideas and the beaut
 y in Phalanx?s music come from poles which are traditionally still opposit
 es: jazz on the one hand\, rock and noise on the other. Or transferred to 
 the instruments: the piano on the one hand\, an electric guitar ? distorte
 d in many interesting ways ? on the other. Jazz-rock\, so to speak ? but w
 ithout everything that classic jazz-rock often makes so gruesome. So witho
 ut narcissistic soloing around and screaking.https://mathieubech.de/phalan
 x/https://www.berthold-records.de/artists/phalanx/https://www.berthold-rec
 ords.de/releases/phalanx-wild/Eintritt frei ? um angemessenen Kulturbeitra
 g wird gebeten.Free entry ? it is suggested to give some money if you like
  the band.Das Peppi Guggenheim ist eine Raucherinnenbar! Einlass ab 18 Jah
 re!The Peppi Guggenheim is a smoking bar! Admission from 18 years!Live auf
  YouTube: https://www.youtube.com/watch?v=oaK8v6gQTbg#PHALANX #AxelZajac #
 XaverFeest #JohannesPfingsten #MathieuBech #Jazz #JazzMetal #JazzRock #Noi
 se #Metal #Improvisation #liveConcert #PeppiGuggenheim #Neukölln #Berlin #Ber
 linJazz #JazzNeukölln #JazzBerlin\n\nViel Spass wünscht Gratis-in-Berlin\n\nLink z
 um Tip: https://www.gratis-in-berlin.de/kalender/item/2072810-jazz-peppi-g
 uggenheim-phalanx\nZu den Gratis-in-Berlin Angeboten: http://www.gratis-in
 -berlin.de\n
DTSTART;VALUE=DATE:20250614
DTEND;VALUE=DATE:20250615
SUMMARY:Jazz @ Peppi Guggenheim: PHALANX
END:VEVENT
END:VCALENDAR
