BEGIN:VCALENDAR
VERSION:2.0
PRODID:-//Gratis-in-Berlin//NONSGML kigkonsult.se iCalcreator 2.14//
METHOD:PUBLISH
X-WR-CALNAME:Gratis-in-Berlin Tip Kalender
X-WR-CALDESC:Erhalte Gratis-in-Berlin Tips in deinem Kalender
BEGIN:VEVENT
UID:20260421T120155UTC-1921rHVpUF@Gratis-in-Berlin
DTSTAMP:20260421T120155Z
DESCRIPTION:Das Resident Music Collective ist ein interdisziplinäres Ensemble
 \, das 2021 zur Eröffnung des Humboldt Forums in Berlin ins Leben gerufen wur
 de ? und seither die Berliner Musikszene mit frischen Impulsen bereichert.
  Das Kollektiv vereint herausragende Musiker*innen aus unterschiedlichsten
  Kulturen und musikalischen Traditionen der Stadt. Bekannt für seine genreübergreife
 nden\, transtraditionellen Klangexperimente\, überrascht und begeistert es imme
 r wieder mit neuen musikalischen Dialogen.Ob in Verbindung mit aktuellen A
 usstellungen oder gesellschaftlich relevanten Themen ? das Resident Music 
 Collective versteht es meisterhaft\, Musik mit Performance\, Tanz und Live
 -Elektronik zu verweben und so einzigartige\, sinnliche Erlebnisse zu scha
 ffen\, die Publikum und Künstler*innen gleichermaßen bewegen.Im Anschluss gibt e
 s ein DJ-Set von mokeyanju im Schlüterhof.Der Abend markiert den feierlichen Ab
 schluss der Global Cultural Assembly\, die internationale Künstlerinnen\, Denke
 rinnen und Aktivist*innen zusammenbringt\, um über globale kulturelle Themen zu
  reflektieren und kreative Projekte zu entwickeln.Begegnungen\, Musik\, ge
 meinsames Essen\, lebendiger Austausch und geteilte Erfahrungen machen die
 sen Abend zu einem besonderen Moment des Zusammenkommens im Rahmen der Fête 
 de la Musique.- Freier Eintritt- Ort: Schlüterhof- Dauer: 3 Stunden- Gehört zu: Fête
  de la Musique 2025\, Global Cultural Assembly 2025\n\nViel Spass wünscht Grati
 s-in-Berlin\n\nLink zum Tip: \nZu den Gratis-in-Berlin Angeboten: http://w
 ww.gratis-in-berlin.de\n
DTSTART;VALUE=DATE:20250621
DTEND;VALUE=DATE:20250622
SUMMARY:Resident Music Collective. Abschlusskonzert der Global Cultural Ass
 embly
END:VEVENT
END:VCALENDAR
