BEGIN:VCALENDAR
VERSION:2.0
PRODID:-//Gratis-in-Berlin//NONSGML kigkonsult.se iCalcreator 2.14//
METHOD:PUBLISH
X-WR-CALNAME:Gratis-in-Berlin Tip Kalender
X-WR-CALDESC:Erhalte Gratis-in-Berlin Tips in deinem Kalender
BEGIN:VEVENT
UID:20260422T121044UTC-5826odMV8g@Gratis-in-Berlin
DTSTAMP:20260422T121044Z
DESCRIPTION:Programm in der Heilig-Kreuz-Kirche zum Karneval der Kulturen:'
 Forró in the City' spielt von mitreißender Tanzmusik bis hin zu gefühlvoller Volksm
 usik und bringt die reiche Tradition dieses Genres zum Leben. Zusätzlich präse
 ntiert die Band eigene Stücke\, die tief in der Tradition verwurzelt sind\, währe
 nd sie gleichzeitig moderne Klänge einfließen lassen.Eintritt frei\n\nViel Sp
 ass wünscht Gratis-in-Berlin\n\nLink zum Tip: \nZu den Gratis-in-Berlin Angebot
 en: http://www.gratis-in-berlin.de\n
DTSTART;VALUE=DATE:20250607
DTEND;VALUE=DATE:20250608
SUMMARY:'Forró in the city': brasilianische Tanzmusik zum Karneval der Kulture
 n
END:VEVENT
END:VCALENDAR
