BEGIN:VCALENDAR
VERSION:2.0
PRODID:-//Gratis-in-Berlin//NONSGML kigkonsult.se iCalcreator 2.14//
METHOD:PUBLISH
X-WR-CALNAME:Gratis-in-Berlin Tip Kalender
X-WR-CALDESC:Erhalte Gratis-in-Berlin Tips in deinem Kalender
BEGIN:VEVENT
UID:20260420T130221UTC-5037fwbZ5Z@Gratis-in-Berlin
DTSTAMP:20260420T130221Z
DESCRIPTION:Programm zum Karneval der Kulturen in der Heilig-Kreuz-Kirche:D
 as Repertoire der 'Folcloricos anonimos' besteht aus populären Liedern aus s
 panischsprachigen Kulturen. Sie präsentieren Lieder\, die sie in die Zeit ih
 rer Eltern und Großeltern zurückversetzen. Lieder für immer\, mit Rhythmus\, Schwung\
 , spitzbübisch\, romantisch und vor allem mit viel Humor.Eintritt frei\n\nViel 
 Spass wünscht Gratis-in-Berlin\n\nLink zum Tip: \nZu den Gratis-in-Berlin Angeb
 oten: http://www.gratis-in-berlin.de\n
DTSTART;VALUE=DATE:20250607
DTEND;VALUE=DATE:20250608
SUMMARY:Folcloricos anonimos: spanische Folklore zum Karneval der Kulturen
END:VEVENT
END:VCALENDAR
