BEGIN:VCALENDAR
VERSION:2.0
PRODID:-//Gratis-in-Berlin//NONSGML kigkonsult.se iCalcreator 2.14//
METHOD:PUBLISH
X-WR-CALNAME:Gratis-in-Berlin Tip Kalender
X-WR-CALDESC:Erhalte Gratis-in-Berlin Tips in deinem Kalender
BEGIN:VEVENT
UID:20260422T130422UTC-5569ucUuVH@Gratis-in-Berlin
DTSTAMP:20260422T130422Z
DESCRIPTION:Naturperformance:Tanzen für den Regenmit Ula Corn - Tanz/Choreograph
 ieund hwmueller - Sound/Trompete'Tanzen für den Regen' knüpft an Traditionen indigen
 er Völker an\,die immer schon in Dürreperioden Regentänze praktizierten unddies heut
 e noch tun. Sie haben eine starke Verbindung zur Natur\,sie sorgen dafür\, dass
  ihre Lebensgrundlage nicht durch Unwissenund Habgier zerstört wird.Eintritt 
 frei(Park:1?)\ndirekt:&nbsp\;S-Bahn Priesterweg\n\nViel Spass wünscht Gratis-in
 -Berlin\n\nLink zum Tip: https://www.gratis-in-berlin.de/kalender/item/207
 3050-tanzen-fuer-den-regen\nZu den Gratis-in-Berlin Angeboten: http://www.
 gratis-in-berlin.de\n
DTSTART;VALUE=DATE:20250622
DTEND;VALUE=DATE:20250623
SUMMARY:Tanzen für den Regen
END:VEVENT
END:VCALENDAR
