BEGIN:VCALENDAR
VERSION:2.0
PRODID:-//Gratis-in-Berlin//NONSGML kigkonsult.se iCalcreator 2.14//
METHOD:PUBLISH
X-WR-CALNAME:Gratis-in-Berlin Tip Kalender
X-WR-CALDESC:Erhalte Gratis-in-Berlin Tips in deinem Kalender
BEGIN:VEVENT
UID:20260421T102535UTC-4128ePRM9L@Gratis-in-Berlin
DTSTAMP:20260421T102535Z
DESCRIPTION:Am Samstag\, den 14. Juni 2025 (21:00) Uhr\, heißt es im Jodelke
 ller in Kreuzberg wieder: Mikro an\, Scham aus. Ob Pop-Hits\, Indie-Klassi
 ker oder Trash-Gold ? bei der Karaoke-Nacht in dieser ehrlichen Kreuzberge
 r Kiezkneipe ist alles erlaubt\, was Spaß macht und laut ist.Kommt vorbei\,
  wir freuen uns auf euch.&nbsp\;\n\nViel Spass wünscht Gratis-in-Berlin\n\nLink
  zum Tip: https://www.gratis-in-berlin.de/musik/item/2073184-kreuzberger-k
 araoke\nZu den Gratis-in-Berlin Angeboten: http://www.gratis-in-berlin.de
 \n
DTSTART;VALUE=DATE:20250614
DTEND;VALUE=DATE:20250615
SUMMARY:Kreuzberger Karaoke 
END:VEVENT
END:VCALENDAR
