BEGIN:VCALENDAR
VERSION:2.0
PRODID:-//Gratis-in-Berlin//NONSGML kigkonsult.se iCalcreator 2.14//
METHOD:PUBLISH
X-WR-CALNAME:Gratis-in-Berlin Tip Kalender
X-WR-CALDESC:Erhalte Gratis-in-Berlin Tips in deinem Kalender
BEGIN:VEVENT
UID:20260424T082912UTC-0045UfuBGm@Gratis-in-Berlin
DTSTAMP:20260424T082912Z
DESCRIPTION:Ein Tag. Eine Probe. Ein Konzert.Unser ONE DAY CHOIR ist ein in
 ternationales Chorprojekt\, bei dem sich Sängerinnen und Sänger nur für einen Tag (
 oft ein paar Stunden) treffen\, um gemeinsam Lieder einzustudieren und am 
 selben Tag eine Aufführung zu geben.Erlebt\, was in nur einem Tag kreiert werde
 n kann!Die Musik reicht von Volksliedern über Musical bis Klassiker.Der Eintrit
 t ist frei.Konzertort: LuisenkircheMitwirkende:hardChor ELLALeitung: Betti
 na KurellaVIVA youth choir (Norwegen)Leitung: Tuva Ystad Gederø\n\nViel Spass 
 wünscht Gratis-in-Berlin\n\nLink zum Tip: https://www.gratis-in-berlin.de/kalen
 der/item/2073262-one-day-choir\nZu den Gratis-in-Berlin Angeboten: http://
 www.gratis-in-berlin.de\n
DTSTART;VALUE=DATE:20250622
DTEND;VALUE=DATE:20250623
SUMMARY:One Day Choir
END:VEVENT
END:VCALENDAR
