BEGIN:VCALENDAR
VERSION:2.0
PRODID:-//Gratis-in-Berlin//NONSGML kigkonsult.se iCalcreator 2.14//
METHOD:PUBLISH
X-WR-CALNAME:Gratis-in-Berlin Tip Kalender
X-WR-CALDESC:Erhalte Gratis-in-Berlin Tips in deinem Kalender
BEGIN:VEVENT
UID:20260422T124742UTC-0233hGDRCd@Gratis-in-Berlin
DTSTAMP:20260422T124742Z
DESCRIPTION:Vor dem Parkcafé Rehberge findet am Sonntag\, dem 22. Juni ein Ko
 nzert mit der Band ?Slipper? statt. Slipper ist das gemeinsame Musikprojek
 t von Sean Armstrong und Rocky Lorelei\, zwei Solomusiker\, die im Wedding
  leben und ?Rehberge Records? gegründet haben. Das ist ein DIY-Musiklabel\, über das
  sie ihre Aufnahmen auf Kassetten veröffentlichen. Los geht es um 15 Uhr am P
 arkcafé an der Catcherwiese im Volkspark Rehberge. Parallel ist am Parkcafé di
 e Ausstellung ?Gestern. Heute. Für immer: Parkcafé Rehberge? zu sehen.Das Parkcaf
 é Rehberge befindet sich im Volkspark Rehberge (am Ringerdenkmal\, Catcherwi
 ese). Das Gebäude ist seit Jahren geschlossen. Eine Initiative bemüht sich um die
  Reaktivierung und bietet deshalb aktuelle Veranstaltungen vor dem Parkcaf
 é an.\n\nViel Spass wünscht Gratis-in-Berlin\n\nLink zum Tip: https://www.gratis-
 in-berlin.de/kalender/item/2073305-konzert-am-parkcafe-rehberge-slipper\nZ
 u den Gratis-in-Berlin Angeboten: http://www.gratis-in-berlin.de\n
DTSTART;VALUE=DATE:20250622
DTEND;VALUE=DATE:20250623
SUMMARY:Konzert am Parkcafé Rehberge: Slipper
END:VEVENT
END:VCALENDAR
