BEGIN:VCALENDAR
VERSION:2.0
PRODID:-//Gratis-in-Berlin//NONSGML kigkonsult.se iCalcreator 2.14//
METHOD:PUBLISH
X-WR-CALNAME:Gratis-in-Berlin Tip Kalender
X-WR-CALDESC:Erhalte Gratis-in-Berlin Tips in deinem Kalender
BEGIN:VEVENT
UID:20260421T120151UTC-5866vCntdh@Gratis-in-Berlin
DTSTAMP:20260421T120151Z
DESCRIPTION:?GutenTango?Zwei Gitarren\, Kontrabass\, BandoneonPablo Fraga -
  GitarreDamián DAlessandro - BandoneonLaico Ruiz Dominguez\, GitarreLea Hart
 \, Bass\n\nViel Spass wünscht Gratis-in-Berlin\n\nLink zum Tip: \nZu den Gratis
 -in-Berlin Angeboten: http://www.gratis-in-berlin.de\n
DTSTART;VALUE=DATE:20250621
DTEND;VALUE=DATE:20250622
SUMMARY:'Guten Tango' Zwei Gitarren\, Kontrabass\, Bandoneon
END:VEVENT
END:VCALENDAR
