BEGIN:VCALENDAR
VERSION:2.0
PRODID:-//Gratis-in-Berlin//NONSGML kigkonsult.se iCalcreator 2.14//
METHOD:PUBLISH
X-WR-CALNAME:Gratis-in-Berlin Tip Kalender
X-WR-CALDESC:Erhalte Gratis-in-Berlin Tips in deinem Kalender
BEGIN:VEVENT
UID:20260424T100018UTC-1722l1bIvs@Gratis-in-Berlin
DTSTAMP:20260424T100018Z
DESCRIPTION:Als Duo- musica responsa -widmen sichWaltraut Elvers\, Violine\
 , Viola undHeidemarie Wiesner\, Klavierdem Thema: WindsbräuteSie wissen nich
 t\, was oder wer 'Windsbräute' waren und sind?Dann seien Sie neugierig und k
 ommen SIe zu uns.Nach einer Gedichtzeile der Ende des 19. Jh. bekannten Di
 chterin Anna Ritter nenne sie ihr Programm?Ich wollt\, ich wär? des Sturmes 
 Weib?.Kompositionen und Gedichte ?unerhörter Frauen? aus der Zeit zwischen Fi
 n de Siècle und Belle Époque.\n\nViel Spass wünscht Gratis-in-Berlin\n\nLink zum T
 ip: \nZu den Gratis-in-Berlin Angeboten: http://www.gratis-in-berlin.de\n
DTSTART;VALUE=DATE:20250622
DTEND;VALUE=DATE:20250623
SUMMARY:Zwei komponierende Freundinnen - Eine Pianistin\, die andere Sängerin
END:VEVENT
END:VCALENDAR
