BEGIN:VCALENDAR
VERSION:2.0
PRODID:-//Gratis-in-Berlin//NONSGML kigkonsult.se iCalcreator 2.14//
METHOD:PUBLISH
X-WR-CALNAME:Gratis-in-Berlin Tip Kalender
X-WR-CALDESC:Erhalte Gratis-in-Berlin Tips in deinem Kalender
BEGIN:VEVENT
UID:20260419T131933UTC-9830E5dKGv@Gratis-in-Berlin
DTSTAMP:20260419T131933Z
DESCRIPTION:Le Tango und andere ?Zerstreuungen?zum 100. Todestag von Erik S
 atie am 1. Juli 2025Musik für Klavier zu 2 und 4 Händen&amp\;?La belle Excentriqu
 e? - TanzsuiteAnnette WiegandRembert PliesterMaria De Faria\, Tanz\n\nViel
  Spass wünscht Gratis-in-Berlin\n\nLink zum Tip: \nZu den Gratis-in-Berlin Ange
 boten: http://www.gratis-in-berlin.de\n
DTSTART;VALUE=DATE:20250701
DTEND;VALUE=DATE:20250702
SUMMARY:30 Minuten Musik und Tanz zum 100. Todestag von Erik Satie 
END:VEVENT
END:VCALENDAR
