BEGIN:VCALENDAR
VERSION:2.0
PRODID:-//Gratis-in-Berlin//NONSGML kigkonsult.se iCalcreator 2.14//
METHOD:PUBLISH
X-WR-CALNAME:Gratis-in-Berlin Tip Kalender
X-WR-CALDESC:Erhalte Gratis-in-Berlin Tips in deinem Kalender
BEGIN:VEVENT
UID:20260419T132204UTC-5191iHxGSu@Gratis-in-Berlin
DTSTAMP:20260419T132204Z
DESCRIPTION:Zum 100. Todestag des Komponisten spielt der Kulturjournalist S
 teffen Prell Saties Klavierstück »Vexations« 840 Mal. 7 bis 22 Uhr&nbsp\;in der 
 kühlen St. Matthäus-Kirche am Kulturforum Potsdamer Platz.\n\nViel Spass wünscht Grati
 s-in-Berlin\n\nLink zum Tip: \nZu den Gratis-in-Berlin Angeboten: http://w
 ww.gratis-in-berlin.de\n
DTSTART;VALUE=DATE:20250701
DTEND;VALUE=DATE:20250702
SUMMARY:100. Geburtstag Erik Satie: Vexations - 840 mal im Kühlen
END:VEVENT
END:VCALENDAR
