BEGIN:VCALENDAR
VERSION:2.0
PRODID:-//Gratis-in-Berlin//NONSGML kigkonsult.se iCalcreator 2.14//
METHOD:PUBLISH
X-WR-CALNAME:Gratis-in-Berlin Tip Kalender
X-WR-CALDESC:Erhalte Gratis-in-Berlin Tips in deinem Kalender
BEGIN:VEVENT
UID:20260421T123029UTC-6094kzc1V3@Gratis-in-Berlin
DTSTAMP:20260421T123029Z
DESCRIPTION:Keine Setlists\, keine Show. Nur Sound im Hier und Jetzt.Wir la
 den Musiker:innen\, Klangnerds und neugierige Zuhörer:innen zu einer offenen 
 Freestyle Session ein. Ein Abend für spontane Musik\, unerwartete Begegnungen u
 nd kreative Energie.Open Mic für Newcomer ? ausschließlich eigenes Material. Spo
 ntane Begleitung durch anwesende Musiker:innen möglich. Oder einfach losspiel
 en. Zuhören. Reagieren. Improvisiert\, roh und echt.Wir sind offen für alle Genres
  oder Richtungen\, die noch keinen Namen haben ? gespielt wird\, was sich 
 im Moment ergibt. Keine Proben\, kein Perfektionsdruck\, kein Ego. Musik a
 ls Gespräch. Egal ob du Profi bist oder dich mal ausprobieren möchtest du bist 
 bei unserer Session mit deiner Musik willkommen.Vor Ort ist alles da:E-Dru
 mkit\, E-Piano\, PA für Bass &amp\; Gitarre (bitte ohne eigene Amps)\, Mikros u
 nd ein Soundtechniker. Turntables kommen bald dazu.Bring dein Instrument\,
  deine Stimme oder einfach deine Neugier. Wir spielen mit Gefühl statt Lautstärke
  ? kollektiver Flow statt Krach. Ob du mitspielst oder einfach nur zuhörst: K
 omm vorbei\, lehn dich rein\, tauch ein.Freestyle ist keine Stilfrage. Es 
 ist eine Haltung.Livemusik\, entspannt in unseren regulären Barabend integri
 ert.Let?s jam the moment.https://youtu.be/n2iAIb_JoO8?feature=sharedBeginn
  20 UhrEinlass 19 UhrEintritt Frei - Spenden herzlich willkommenAb 18 J.BI
 TTE BEACHTEN: Es ist KEIN MUSS online zu reservieren\, ihr könnt natürlich auch sp
 ontan vorbeikommen. Ihr helft uns mit einer Reservierung bei der Planung d
 en Abend vorzubereiten\, von der Anzahl der Barkräfte bis hin zum Einkauf!Wi
 r reservieren bei Veranstaltungen keine Tische\, bei uns ist freie Platzwa
 hl!Offizieller Ticket Shop: https://art-stalker.reservix.de/eventshttps://
 www.facebook.com/artstalkerberlin/https://www.instagram.com/artstalker.ber
 lin/ART Stalker - Kunst+Bar+Events - Kaiser - Friedrich - Str. 67\, 10627 
 Berlin / art-stalker.de / mail@art-stalker.de / Büro 10 - 16 Uhr: 0163 7374 229
  / Office (EN)10AM - 4PM: 0152 2644 2625 / Bar ab 19 Uhr: 030 - 220 529 60
  / aktuelle Öffnungszeiten der Bar: DI - SA ab 19 Uhr\n\nViel Spass wünscht Grat
 is-in-Berlin\n\nLink zum Tip: \nZu den Gratis-in-Berlin Angeboten: http://
 www.gratis-in-berlin.de\n
DTSTART;VALUE=DATE:20260422
DTEND;VALUE=DATE:20260423
SUMMARY:Freestyle Lab Barabend ? Musik\, die jetzt passiert
END:VEVENT
END:VCALENDAR
