BEGIN:VCALENDAR
VERSION:2.0
PRODID:-//Gratis-in-Berlin//NONSGML kigkonsult.se iCalcreator 2.14//
METHOD:PUBLISH
X-WR-CALNAME:Gratis-in-Berlin Tip Kalender
X-WR-CALDESC:Erhalte Gratis-in-Berlin Tips in deinem Kalender
BEGIN:VEVENT
UID:20260419T130151UTC-7442W6Lj8u@Gratis-in-Berlin
DTSTAMP:20260419T130151Z
DESCRIPTION:Ab 19 Uhr: Interviews und Live-Sets:&nbsp\;- Singer-Songwriteri
 n Akryl- Liedermacher\, Kabarettist und Autor William Wahl- Berliner Indie
 -Rock-Band SINDDieses Jahr feiert radioeins wieder ein Parkfest auf dem Ha
 uptplatz im Park am Gleisdreieck (Ostteil\, Eingang Hornstraße) Eine Woche 
 lang Livesendungen\, Konzerte\, Comedy\, Hörspielkino\, Theater\, Sportstunde
 n und mehr spannende Veranstaltungen in einer tollen Biergarten-Atmosphäre -
  umsonst und draußen. Tagesprogramm mit Highlights vom Parkfest auch bei in
  unseren Tagestips\, z.B. bei&nbsp\;Heute&nbsp\;und Morgen&nbsp\;schauen.
 \n\nViel Spass wünscht Gratis-in-Berlin\n\nLink zum Tip: \nZu den Gratis-in-Ber
 lin Angeboten: http://www.gratis-in-berlin.de\n
DTSTART;VALUE=DATE:20250902
DTEND;VALUE=DATE:20250903
SUMMARY:Akryl\, William Wahl & Sind auf Parkfest Gleisdreieck
END:VEVENT
END:VCALENDAR
