BEGIN:VCALENDAR
VERSION:2.0
PRODID:-//Gratis-in-Berlin//NONSGML kigkonsult.se iCalcreator 2.14//
METHOD:PUBLISH
X-WR-CALNAME:Gratis-in-Berlin Tip Kalender
X-WR-CALDESC:Erhalte Gratis-in-Berlin Tips in deinem Kalender
BEGIN:VEVENT
UID:20260419T161251UTC-5543VkRJ0p@Gratis-in-Berlin
DTSTAMP:20260419T161251Z
DESCRIPTION:NOWRUZ Kulturkreis e.V. lädt zu einem Abend voller Musik und Poes
 ie der Hazara ein. Musiker:innen präsentieren traditionelle Hazaragi-Lieder 
 und Dombra-Klänge. Hazara-Musik erzählt von Liebe\, Sehnsucht und Widerstand u
 nd bewahrt die Geschichten eines weit verbreiteten Volkes. Die Dombra begl
 eitet seit Jahrhunderten emotionale Gesänge. Eine Anmeldung ist nicht erford
 erlich\, alle sind herzlich willkommen!Eine Veranstaltung des NOWRUZ Kultu
 rkreis e.V.\n\nViel Spass wünscht Gratis-in-Berlin\n\nLink zum Tip: https://www
 .gratis-in-berlin.de/musik/item/2074818-hazara-musik-dambura-fest\nZu den 
 Gratis-in-Berlin Angeboten: http://www.gratis-in-berlin.de\n
DTSTART;VALUE=DATE:20250927
DTEND;VALUE=DATE:20250928
SUMMARY:»Hazara-Musik« ? Dambura-Fest
END:VEVENT
END:VCALENDAR
