BEGIN:VCALENDAR
VERSION:2.0
PRODID:-//Gratis-in-Berlin//NONSGML kigkonsult.se iCalcreator 2.14//
METHOD:PUBLISH
X-WR-CALNAME:Gratis-in-Berlin Tip Kalender
X-WR-CALDESC:Erhalte Gratis-in-Berlin Tips in deinem Kalender
BEGIN:VEVENT
UID:20260420T132114UTC-2061A5nNU2@Gratis-in-Berlin
DTSTAMP:20260420T132114Z
DESCRIPTION:Klavierabend mit&nbsp\;Nikolai MedvedevSamstag\, 25.10. um 19:3
 0 Uhr Programm: J. HaydnKlaviersonate As-Dur Hob. XVI:46 S. RachmaninovAus
 gewählte Werke:- Musikalische Momente- Präludien- Etüden-Tableaux aus op. 16 / op. 
 32 / op. 39Eintritt frei - Spenden sind erbeten - Eine Anmeldung ist nicht
  nötig\n\nViel Spass wünscht Gratis-in-Berlin\n\nLink zum Tip: https://www.gratis-
 in-berlin.de/kalender/item/2075406-klavierabend-im-buddhistischen-tor-berl
 in\nZu den Gratis-in-Berlin Angeboten: http://www.gratis-in-berlin.de\n
DTSTART;VALUE=DATE:20251025
DTEND;VALUE=DATE:20251026
SUMMARY:Klavierabend im Buddhistischen Tor Berlin
END:VEVENT
END:VCALENDAR
