BEGIN:VCALENDAR
VERSION:2.0
PRODID:-//Gratis-in-Berlin//NONSGML kigkonsult.se iCalcreator 2.14//
METHOD:PUBLISH
X-WR-CALNAME:Gratis-in-Berlin Tip Kalender
X-WR-CALDESC:Erhalte Gratis-in-Berlin Tips in deinem Kalender
BEGIN:VEVENT
UID:20260421T160139UTC-6368Ct3vW4@Gratis-in-Berlin
DTSTAMP:20260421T160139Z
DESCRIPTION:Die Teilnehmer*innen des von Mathias Maschat geleiteten Lesekre
 is Improvisation sind selbst in verschiedenen Metiers beheimatete Improvis
 ator*innen: Musiker*innen\, Tänzer*innen\, Bildende Künstler*innen. Zugleich sind
  sie auch Denker*innen\, denen es ein Anliegen ist\, sich mit der Kunst de
 r Improvisation auch gedanklich auseinanderzusetzen und sich hierüber mit ander
 en zu verständigen. Aus dieser Konstellation ist 2022 die Idee erwachsen\, h
 albjährlich und ? als Ausgleich zu den ansonsten digitalen Treffen ? in Präsen
 z einen gemeinsamen Tag mit eigenen Themen\, Improvisationen und Diskussio
 nen zu gestalten.Interessierte sind herzlich willkommen\, den Lesekreis Im
 provisation auf diesem Weg kennenzulernen. Um vorherige Anmeldung wird geb
 eten.Informationen zum regulären Lesekreis Improvisation finden sich hier:ht
 tps://exploratorium-berlin.de/events/denkraum/lesekreis-improvisation-26-1
 /\n\nLeitung: Mathias MaschatKontakt: Mathias Maschat (mm at exploratorium
 -berlin.de)Eintritt: freiAnmeldung: Per Formular bis zum 26. Juni\n\nViel 
 Spass wünscht Gratis-in-Berlin\n\nLink zum Tip: \nZu den Gratis-in-Berlin Angeb
 oten: http://www.gratis-in-berlin.de\n
DTSTART;VALUE=DATE:20260627
DTEND;VALUE=DATE:20260628
SUMMARY:Lesekreis Improvisation Spezial - Der Lesekreis Improvisation stell
 t sich vor
END:VEVENT
END:VCALENDAR
