BEGIN:VCALENDAR
VERSION:2.0
PRODID:-//Gratis-in-Berlin//NONSGML kigkonsult.se iCalcreator 2.14//
METHOD:PUBLISH
X-WR-CALNAME:Gratis-in-Berlin Tip Kalender
X-WR-CALDESC:Erhalte Gratis-in-Berlin Tips in deinem Kalender
BEGIN:VEVENT
UID:20260422T132607UTC-27746ipiVo@Gratis-in-Berlin
DTSTAMP:20260422T132607Z
DESCRIPTION:Anna Catarina Ortmann (DE): Text-\, TanzperformanceThomas Gerwi
 n (DE): Komposition\, KlangperformanceDiese Text-Sound-Performance besteht
  aus drei Teilen. Im ersten Akt\, der frei improvisiert wird\, formt sich 
 aus diversen Sprachlauten\, elektroakustischen Verfremdungen und experimen
 tellen Klanggebilden nach und nach eine kurze\, verständliche Sprachsequenz.
  Dieser erste Akt wird live aufgenommen und dann im zweiten Akt direkt ans
 chließend von Lautsprechern abgespielt. Dabei wird er kontrapunktiert und e
 rgänzt durch weitere Live-Aktionen der beiden Performer*innen. Der dritte Ak
 t besteht aus einer kleinen\, wieder frei improvisierten Coda. Der Text be
 steht aus zwei kurzen Zitaten aus einem realen Fernseh-Interview\, die auc
 h in verschiedenen Nachrichtensendungen und Zeitungstexten erschienen. Zum
  künstlerischen Inhalt gehört einerseits die völlige Dekonstruktion eines Textes\, de
 r elektroakustisch und live performativ teilweise stark bearbeitet und in 
 einer surrealen theatralischen Inszenierung bis zur reinen Sprachlautkompo
 sition verfremdet wird. Die beiden Textfragmente stammen aus der jüngeren polit
 ischen Geschichte\, wurden aber in dieser oder ganz ähnlicher Diktion seitde
 m schon in mehreren anderen politischen Situationen gebraucht. Nach dem Ko
 nzert soll deshalb die Quelle der Textfragmente offengelegt\, mit dem Publ
 ikum besprochen und gemeinsam reflektiert werden.Eintritt: Auf Spendenbasi
 sZugang: Haupteingang (über das Restaurant Mokja)Reservierung: ist nicht erford
 erlich\n\nViel Spass wünscht Gratis-in-Berlin\n\nLink zum Tip: https://www.grat
 is-in-berlin.de/musik/item/2076729-schichten-zeitgenoessisches-musiktheate
 r\nZu den Gratis-in-Berlin Angeboten: http://www.gratis-in-berlin.de\n
DTSTART;VALUE=DATE:20260212
DTEND;VALUE=DATE:20260213
SUMMARY:Schichten - Zeitgenössisches Musiktheater
END:VEVENT
END:VCALENDAR
