BEGIN:VCALENDAR
VERSION:2.0
PRODID:-//Gratis-in-Berlin//NONSGML kigkonsult.se iCalcreator 2.14//
METHOD:PUBLISH
X-WR-CALNAME:Gratis-in-Berlin Tip Kalender
X-WR-CALDESC:Erhalte Gratis-in-Berlin Tips in deinem Kalender
BEGIN:VEVENT
UID:20260419T133855UTC-8712EzPH6n@Gratis-in-Berlin
DTSTAMP:20260419T133855Z
DESCRIPTION:Raga Vaga - Freitanz\nDas Feste und das Flüssige\n&nbsp\;\nFür Beweger un
 d Bewegte\,\ndie sich durch den Raum\nnach Hintergrundsounds(Raga) und\nfr
 ei improvisierten Klanglinien(Vaga)\nentspannt bewegen\,\ntanzen oder\nmed
 itieren möchten.\n&nbsp\;\n&nbsp\;\nTheaterhaus Tanzraum M406\nDauer: ca. 60 
 min\nEintritt frei\nBegrenzte Plätze\nBitte Anmeldenhw@hwmueller.eu&nbsp\;\n
 &nbsp\;\n\nViel Spass wünscht Gratis-in-Berlin\n\nLink zum Tip: https://www.gra
 tis-in-berlin.de/musik/item/2076731-raga-vaga-freitanz\nZu den Gratis-in-B
 erlin Angeboten: http://www.gratis-in-berlin.de\n
DTSTART;VALUE=DATE:20260207
DTEND;VALUE=DATE:20260208
SUMMARY:Raga Vaga  - Freitanz
END:VEVENT
END:VCALENDAR
